BEGIN:VCALENDAR
VERSION:2.0
PRODID:-//wp-events-plugin.com//7.2.3.1//EN
TZID:America/Detroit
X-WR-TIMEZONE:America/Detroit
BEGIN:VEVENT
UID:32303@arabamerica.com
DTSTART;TZID=America/Detroit:20240308T193000
DTEND;TZID=America/Detroit:20240308T193000
DTSTAMP:20240221T222545Z
URL:https://www.arabamerica.com/events/comedy-for-good/
SUMMARY:Comedy For Good
DESCRIPTION:Yonkers\, NY. Join us for Comedy For Good\, a comedy fundraiser
  on March 8th 7:30pm in Yonkers\, NY! See a hilarious line-up of comedians
  coming to town to raise money for @doctorswithoutborders &amp\; @egyptian
 redcrescent bringing much needed humanitarian aid to the people of Gaza. A
 ll proceeds go to Gaza.\n\n\n\n\n\n\n\n\nThis is a live event\, (zoom tick
 ets are available for $25 too). The event includes delicious palestinian f
 ood\, beer\, wine and beverages\, and even Palestinian wine!\n\nOur presti
 gious comedians\nAdam Mamawala: NYC-comic\, Comedy Central\, SNL\nMaysoon 
 Zayid: NYC comic\, Ted Talk\nAtheer Yacoub: NYC based Comic and as seen on
  Arab Comedy Central\nMichael Schirtzer: Comic\, co-host of The Palestine 
 Pod\nAnd our MC Cansu Karabiyik: UK and US based comic\nSpecial appearanc
 e: Katie Halps from The Katie Halper Show\n\n\n\n\n\n\n
ATTACH;FMTTYPE=image/jpeg:https://www.arabamerica.com/wp-content/uploads/2
 024/02/unnamed-1.png
CATEGORIES:Community,culture,Music/Folk/World
LOCATION:Saint John's Episcopal\, 100 Underhill Street \, Yonkers\, NY\, 10
 710\, United States
GEO:40.959109;-73.837059
X-APPLE-STRUCTURED-LOCATION;VALUE=URI;X-ADDRESS=100 Underhill Street \, Yon
 kers\, NY\, 10710\, United States;X-APPLE-RADIUS=100;X-TITLE=Saint John's 
 Episcopal:geo:40.959109,-73.837059
END:VEVENT
BEGIN:VTIMEZONE
TZID:America/Detroit
X-LIC-LOCATION:America/Detroit
BEGIN:STANDARD
DTSTART:20231105T010000
TZOFFSETFROM:-0400
TZOFFSETTO:-0500
TZNAME:EST
END:STANDARD
END:VTIMEZONE
END:VCALENDAR