BEGIN:VCALENDAR
VERSION:2.0
PRODID:-//wp-events-plugin.com//7.2.3.1//EN
TZID:America/Detroit
X-WR-TIMEZONE:America/Detroit
BEGIN:VEVENT
UID:32199@arabamerica.com
DTSTART;TZID=America/Detroit:20240218T193000
DTEND;TZID=America/Detroit:20240218T210000
DTSTAMP:20240206T033725Z
URL:https://www.arabamerica.com/events/comedy-night-rami-abushhab-lets-tal
 k-about-it/
SUMMARY:Comedy Night! Rami Abushhab: Let's Talk About It
DESCRIPTION:\nAbout this event\n\nRami returns to San Francisco where he wi
 ll use his storytelling and surgical comedy to tackle the issues of today'
 s climate.\n\n\n\n\n\n\n\nA standup comedy show where Rami uses his storyt
 elling ability and surgical comedy to tackle the issues of today's climate
  as well as his own problems. Come for a night of thought provoking laught
 er with some special guests!\n\n\n\n\n\n
ATTACH;FMTTYPE=image/jpeg:https://www.arabamerica.com/wp-content/uploads/2
 024/02/Screen-Shot-2024-02-05-at-10.33.41-PM.png
LOCATION:Eclectic Box SF\, 446 Valencia Street \, San FRancisco\, CA\, 9410
 3\, United States
GEO:37.765753;-122.422326
X-APPLE-STRUCTURED-LOCATION;VALUE=URI;X-ADDRESS=446 Valencia Street \, San 
 FRancisco\, CA\, 94103\, United States;X-APPLE-RADIUS=100;X-TITLE=Eclectic
  Box SF:geo:37.765753,-122.422326
END:VEVENT
BEGIN:VTIMEZONE
TZID:America/Detroit
X-LIC-LOCATION:America/Detroit
BEGIN:STANDARD
DTSTART:20231105T010000
TZOFFSETFROM:-0400
TZOFFSETTO:-0500
TZNAME:EST
END:STANDARD
END:VTIMEZONE
END:VCALENDAR