BEGIN:VCALENDAR
VERSION:2.0
PRODID:-//wp-events-plugin.com//7.2.3.1//EN
TZID:America/Detroit
X-WR-TIMEZONE:America/Detroit
BEGIN:VEVENT
UID:32208@arabamerica.com
DTSTART;TZID=America/Detroit:20240224T210000
DTEND;TZID=America/Detroit:20240224T220000
DTSTAMP:20240206T041229Z
URL:https://www.arabamerica.com/events/comedy-night-rami-and-yazid-live-in
 -houston/
SUMMARY:Comedy Night! Rami and Yazid: Live in Houston
DESCRIPTION:\nAbout this event\n\n&nbsp\;\nComedians Rami Abushhab and Yazi
 d Suliman touchdown in Houston\, Texas for a night of laughter!\n\n\n\n\n\
 n\n\nRami Abushhab and Yazid Suliman touchdown in Houston\, Texas for a ni
 ght of laughter! Rami and Yazid will use their quick whit and storytelling
  ability to talk about the landscape of the world today as well as what's 
 going on in their own lives.\n\nDoors open at 9pm and show starts at 9:30!
 \n\n\n&nbsp\;\n\n\n\n\n
ATTACH;FMTTYPE=image/jpeg:https://www.arabamerica.com/wp-content/uploads/2
 024/02/Screen-Shot-2024-02-05-at-11.10.18-PM.png
LOCATION:The Coronation Theater\, 3420 Rusk Street #a3\, Houston\, TX\, 770
 03\, United States
GEO:29.745371;-95.343321
X-APPLE-STRUCTURED-LOCATION;VALUE=URI;X-ADDRESS=3420 Rusk Street #a3\, Hous
 ton\, TX\, 77003\, United States;X-APPLE-RADIUS=100;X-TITLE=The Coronation
  Theater:geo:29.745371,-95.343321
END:VEVENT
BEGIN:VTIMEZONE
TZID:America/Detroit
X-LIC-LOCATION:America/Detroit
BEGIN:STANDARD
DTSTART:20231105T010000
TZOFFSETFROM:-0400
TZOFFSETTO:-0500
TZNAME:EST
END:STANDARD
END:VTIMEZONE
END:VCALENDAR