BEGIN:VCALENDAR
VERSION:2.0
PRODID:-//wp-events-plugin.com//7.2.3.1//EN
TZID:America/Detroit
X-WR-TIMEZONE:America/Detroit
BEGIN:VEVENT
UID:34615@arabamerica.com
DTSTART;TZID=America/Detroit:20250622T100000
DTEND;TZID=America/Detroit:20250622T140000
DTSTAMP:20250617T222859Z
URL:https://www.arabamerica.com/events/community-acupuncture-for-palestine
 /
SUMMARY:Community Acupuncture for Palestine
DESCRIPTION:SAN FRANCISCO\, CALIFORNIA\n\nCommunity Acupuncture Pop-Up bene
 fiting Gaza Infant Nutrition Alliance - an organization doing lifesaving
  work providing breastfeeding support to to families in Gaza. As food and 
 supply blockades continue GINA is doing everything they can to support bre
 astfeeding\, protecting the health of infants and families in Palestine.\n
 \nEmily Haddad\, LAc DACM will be doing community style acupuncture treat
 ments in a group setting\, treating 4-5 people an hour. We'll have cozy bl
 ankets and pillows in our loft space for you to rest with your needles.\n\
 nTreatments are drop in style\, no appointments needed. Attendees will be 
 treated in the order they arrive. $40-60 suggested donation for treatments
  - give what you can\, no one will be turned away for lack of funds. Cash\
 , Venmo and Credit Cards accepted.
ATTACH;FMTTYPE=image/jpeg:https://www.arabamerica.com/wp-content/uploads/2
 025/06/Screen-Shot-2025-06-17-at-6.25.15-PM.png
LOCATION:Hatch Midwifery\, 637 Irving Street\, San Francisco \, California 
 \, 94122\, United States
GEO:37.763875;-122.464836
X-APPLE-STRUCTURED-LOCATION;VALUE=URI;X-ADDRESS=637 Irving Street\, San Fra
 ncisco \, California \, 94122\, United States;X-APPLE-RADIUS=100;X-TITLE=H
 atch Midwifery:geo:37.763875,-122.464836
END:VEVENT
BEGIN:VTIMEZONE
TZID:America/Detroit
X-LIC-LOCATION:America/Detroit
BEGIN:DAYLIGHT
DTSTART:20250309T030000
TZOFFSETFROM:-0500
TZOFFSETTO:-0400
TZNAME:EDT
END:DAYLIGHT
END:VTIMEZONE
END:VCALENDAR