BEGIN:VCALENDAR
VERSION:2.0
PRODID:-//wp-events-plugin.com//7.2.3.1//EN
TZID:America/Detroit
X-WR-TIMEZONE:America/Detroit
BEGIN:VEVENT
UID:30461@arabamerica.com
DTSTART;TZID=America/Detroit:20230401T184500
DTEND;TZID=America/Detroit:20230401T201500
DTSTAMP:20230213T003615Z
URL:https://www.arabamerica.com/events/community-ramadan-dinner-with-cross
 roads-church/
SUMMARY:Community Ramadan Dinner with Crossroads Church
DESCRIPTION:KANSAS CITY\, MO\n\nIt’s the month of mercy\, compassion and 
 unity! It is a tradition in this month to break the fast together with fam
 ily\, neighbors\, and friends. We are already excited to get together with
  you
ATTACH;FMTTYPE=image/jpeg:https://www.arabamerica.com/wp-content/uploads/2
 023/02/Screenshot-2023-02-12-6.31.31-PM.png
CATEGORIES:Iftar,Ramadan
LOCATION:Crossroads Church of Kansas City\, 7917 Main Street\, Kansas City\
 , MO\, 64114\, United States
GEO:38.984207;-94.589655
X-APPLE-STRUCTURED-LOCATION;VALUE=URI;X-ADDRESS=7917 Main Street\, Kansas C
 ity\, MO\, 64114\, United States;X-APPLE-RADIUS=100;X-TITLE=Crossroads Chu
 rch of Kansas City:geo:38.984207,-94.589655
END:VEVENT
BEGIN:VTIMEZONE
TZID:America/Detroit
X-LIC-LOCATION:America/Detroit
BEGIN:DAYLIGHT
DTSTART:20230312T030000
TZOFFSETFROM:-0500
TZOFFSETTO:-0400
TZNAME:EDT
END:DAYLIGHT
END:VTIMEZONE
END:VCALENDAR