BEGIN:VCALENDAR
VERSION:2.0
PRODID:-//wp-events-plugin.com//7.2.3.1//EN
TZID:America/Detroit
X-WR-TIMEZONE:America/Detroit
BEGIN:VEVENT
UID:30463@arabamerica.com
DTSTART;TZID=America/Detroit:20230404T184500
DTEND;TZID=America/Detroit:20230404T201500
DTSTAMP:20230213T004237Z
URL:https://www.arabamerica.com/events/community-ramadan-dinner-with-good-
 faith-network/
SUMMARY:Community Ramadan Dinner with Good Faith Network
DESCRIPTION:OVERLAND PARK\, KS\n\n&nbsp\;\n\n\n\n\n\nLet's Celebrate Ramada
 n all together!\n\n&nbsp\;\n\nThank you for joining Ramadan 2023.\n\n&nbsp
 \;\n\nIt’s the month of mercy\, compassion and unity! It is a tradition 
 in this month to break the fast together with family\, neighbors\, and fri
 ends. We are already excited to get together with you\n\n\n\n\n\n\n\n\n\n
ATTACH;FMTTYPE=image/jpeg:https://www.arabamerica.com/wp-content/uploads/2
 023/02/Screenshot-2023-02-12-6.31.31-PM.png
CATEGORIES:Iftar,Ramadan
LOCATION:10211 Nall Ave\, 10211 Nall Ave\, Overland Park\, KS\, 66207\, Uni
 ted States
GEO:38.942906;-94.648226
X-APPLE-STRUCTURED-LOCATION;VALUE=URI;X-ADDRESS=10211 Nall Ave\, Overland P
 ark\, KS\, 66207\, United States;X-APPLE-RADIUS=100;X-TITLE=10211 Nall Ave
 :geo:38.942906,-94.648226
END:VEVENT
BEGIN:VTIMEZONE
TZID:America/Detroit
X-LIC-LOCATION:America/Detroit
BEGIN:DAYLIGHT
DTSTART:20230312T030000
TZOFFSETFROM:-0500
TZOFFSETTO:-0400
TZNAME:EDT
END:DAYLIGHT
END:VTIMEZONE
END:VCALENDAR