BEGIN:VCALENDAR
VERSION:2.0
PRODID:-//wp-events-plugin.com//7.2.3.1//EN
TZID:America/Detroit
X-WR-TIMEZONE:America/Detroit
BEGIN:VEVENT
UID:30464@arabamerica.com
DTSTART;TZID=America/Detroit:20230404T184500
DTEND;TZID=America/Detroit:20230404T201500
DTSTAMP:20230213T005011Z
URL:https://www.arabamerica.com/events/community-ramadan-dinner-with-larch
 e-heartland/
SUMMARY:Community Ramadan Dinner with L'arche Heartland
DESCRIPTION:OVERLAND PARK\, KS\n\nLet's Celebrate Ramadan all together!\n\n
 &nbsp\;\n\nThank you for joining Ramadan 2023.\n\n&nbsp\;\n\nIt’s the mo
 nth of mercy\, compassion and unity! It is a tradition in this month to br
 eak the fast together with family\, neighbors\, and friends. We are alread
 y excited to get together with you
ATTACH;FMTTYPE=image/jpeg:https://www.arabamerica.com/wp-content/uploads/2
 023/02/Screenshot-2023-02-12-6.31.31-PM.png
CATEGORIES:Iftar,Ramadan
LOCATION:L'Arche Heartland\, 8137 Santa Fe Drive\, Overland Park\, KS\, 662
 04\, United States
GEO:38.98125;-94.674553
X-APPLE-STRUCTURED-LOCATION;VALUE=URI;X-ADDRESS=8137 Santa Fe Drive\, Overl
 and Park\, KS\, 66204\, United States;X-APPLE-RADIUS=100;X-TITLE=L'Arche H
 eartland:geo:38.98125,-94.674553
END:VEVENT
BEGIN:VTIMEZONE
TZID:America/Detroit
X-LIC-LOCATION:America/Detroit
BEGIN:DAYLIGHT
DTSTART:20230312T030000
TZOFFSETFROM:-0500
TZOFFSETTO:-0400
TZNAME:EDT
END:DAYLIGHT
END:VTIMEZONE
END:VCALENDAR