BEGIN:VCALENDAR
VERSION:2.0
PRODID:-//wp-events-plugin.com//7.2.3.1//EN
TZID:America/Detroit
X-WR-TIMEZONE:America/Detroit
BEGIN:VEVENT
UID:30480@arabamerica.com
DTSTART;TZID=America/Detroit:20230414T190000
DTEND;TZID=America/Detroit:20230414T203000
DTSTAMP:20230214T014534Z
URL:https://www.arabamerica.com/events/community-ramadan-dinner-with-leawo
 od-united-methodist-church/
SUMMARY:Community Ramadan Dinner with Leawood United Methodist Church
DESCRIPTION:LEAWOOD\, KS\n\nThank you for joining Ramadan 2023.\n\nIt’s t
 he month of mercy\, compassion and unity! It is a tradition in this month 
 to break the fast together with family\, neighbors\, and friends. We are a
 lready excited to get together with you!
ATTACH;FMTTYPE=image/jpeg:https://www.arabamerica.com/wp-content/uploads/2
 023/02/Screenshot-2023-02-12-6.31.31-PM.png
CATEGORIES:Community,culture,Discussion,Food,Iftar,Islam,Religous
END:VEVENT
BEGIN:VTIMEZONE
TZID:America/Detroit
X-LIC-LOCATION:America/Detroit
BEGIN:DAYLIGHT
DTSTART:20230312T030000
TZOFFSETFROM:-0500
TZOFFSETTO:-0400
TZNAME:EDT
END:DAYLIGHT
END:VTIMEZONE
END:VCALENDAR