BEGIN:VCALENDAR
VERSION:2.0
PRODID:-//wp-events-plugin.com//7.2.3.1//EN
TZID:America/Detroit
X-WR-TIMEZONE:America/Detroit
BEGIN:VEVENT
UID:30465@arabamerica.com
DTSTART;TZID=America/Detroit:20230412T190000
DTEND;TZID=America/Detroit:20230412T203000
DTSTAMP:20230213T005402Z
URL:https://www.arabamerica.com/events/community-ramadan-dinner-with-rockh
 urst-university/
SUMMARY:Community Ramadan Dinner with Rockhurst University
DESCRIPTION:KANSAS CITY\, MO\n\n&nbsp\;\n\nIt’s the month of mercy\, comp
 assion and unity! It is a tradition in this month to break the fast togeth
 er with family\, neighbors\, and friends. We are already excited to get to
 gether with you
ATTACH;FMTTYPE=image/jpeg:https://www.arabamerica.com/wp-content/uploads/2
 023/02/Screenshot-2023-02-12-6.31.31-PM.png
CATEGORIES:Iftar,Ramadan
LOCATION:Rockhurst University\, 1100 Rockhurst Road\, Kansas City\, MO\, 64
 110\, United States
GEO:39.030348;-94.571063
X-APPLE-STRUCTURED-LOCATION;VALUE=URI;X-ADDRESS=1100 Rockhurst Road\, Kansa
 s City\, MO\, 64110\, United States;X-APPLE-RADIUS=100;X-TITLE=Rockhurst U
 niversity:geo:39.030348,-94.571063
END:VEVENT
BEGIN:VTIMEZONE
TZID:America/Detroit
X-LIC-LOCATION:America/Detroit
BEGIN:DAYLIGHT
DTSTART:20230312T030000
TZOFFSETFROM:-0500
TZOFFSETTO:-0400
TZNAME:EDT
END:DAYLIGHT
END:VTIMEZONE
END:VCALENDAR