BEGIN:VCALENDAR
VERSION:2.0
PRODID:-//wp-events-plugin.com//7.2.3.1//EN
TZID:America/Detroit
X-WR-TIMEZONE:America/Detroit
BEGIN:VEVENT
UID:34556@arabamerica.com
DTSTART;TZID=America/Detroit:20250616T180000
DTEND;TZID=America/Detroit:20250616T200000
DTSTAMP:20250610T210227Z
URL:https://www.arabamerica.com/events/community-travel-night-colors-of-mo
 rocco-collette-the-agency-chic/
SUMMARY:Community Travel Night Colors of Morocco Collette- The Agency Chic
DESCRIPTION:\n\nJoin us for a fun night of exploring new destinations and t
 ravel tips Colors of Morocco - Collette Travel Night - The Agency Chic!\n\
 n\n\n\n\n\n\n\n\n\n\n\nCommunity Travel Night Colors of Morocco with Colle
 tte Tours - The Agency Chic\n\nJoin us for a night of adventure and explor
 ation at 2551 PA-611! Discover the world of travel Community Travel Night 
 Colors of Morocco with Collette Tours - The Agency Chic as we delve into e
 xciting destinations and travel tips. Whether you're a seasoned traveler o
 r dreaming of your next getaway\, this event is for you! Come mingle\, sha
 re stories\, and get inspired to plan your next journey. See you there!\n\
 n&nbsp\;\n\nAges 18+
ATTACH;FMTTYPE=image/jpeg:https://www.arabamerica.com/wp-content/uploads/2
 025/06/Screenshot-2025-06-10-at-11.55.54 PM.png
LOCATION:The Agency Chic\, 2551 Pennsylvania 611\, Pocono Township\, PA\, 1
 8355\, United States
GEO:41.05714;-75.316119
X-APPLE-STRUCTURED-LOCATION;VALUE=URI;X-ADDRESS=2551 Pennsylvania 611\, Poc
 ono Township\, PA\, 18355\, United States;X-APPLE-RADIUS=100;X-TITLE=The A
 gency Chic:geo:41.05714,-75.316119
END:VEVENT
BEGIN:VTIMEZONE
TZID:America/Detroit
X-LIC-LOCATION:America/Detroit
BEGIN:DAYLIGHT
DTSTART:20250309T030000
TZOFFSETFROM:-0500
TZOFFSETTO:-0400
TZNAME:EDT
END:DAYLIGHT
END:VTIMEZONE
END:VCALENDAR