BEGIN:VCALENDAR
VERSION:2.0
PRODID:-//wp-events-plugin.com//7.2.3.1//EN
TZID:America/Detroit
X-WR-TIMEZONE:America/Detroit
BEGIN:VEVENT
UID:30423@arabamerica.com
DTSTART;TZID=America/Detroit:20230719T180000
DTEND;TZID=America/Detroit:20230723T203000
DTSTAMP:20230207T150632Z
URL:https://www.arabamerica.com/events/concert-of-colors-forum-on-communit
 y-culture-race-air-water-land-artists-climate-change/
SUMMARY:Concert of Colors Forum on Community\, Culture & Race – Air\, Wat
 er\, Land: Artists & Climate Change
DESCRIPTION:DEARBORN\, MI\nConcert of Colors Forum on Community\, Culture &
 amp\; Race – Air\, Water\, Land: Artists &amp\; Climate Change \nIn-per
 son at The Annex @ AANM OR virtual via online livestream\n\nFREE with RSVP
 \n\nThe Concert of Colors Forum on Community\, Culture &amp\; Race\, one 
 of the Arab American National Museum’s signature annual events\, is a dy
 namic gathering of artists\, activists and advocates who use art and dialo
 gue as a tool for advocacy and community building. This year’s program w
 ill be presented both in person and virtually online.\n\nThe Forum speaker
 s are TBA.\n\nConcert of Colors\, Detroit’s annual diversity festival\, 
 will be happening July 20-23! More info + full concert lineup
ATTACH;FMTTYPE=image/jpeg:https://www.arabamerica.com/wp-content/uploads/2
 023/02/52450976891_b134285039_o-1024x683-1.jpg
CATEGORIES:Arab American National Museum,Arab concert
LOCATION:Arab American National Museum\, 13624 Michigan Avenue\, Dearborn \
 , MI\, 48126\, United States
GEO:42.3222224;-83.1766346
X-APPLE-STRUCTURED-LOCATION;VALUE=URI;X-ADDRESS=13624 Michigan Avenue\, Dea
 rborn \, MI\, 48126\, United States;X-APPLE-RADIUS=100;X-TITLE=Arab Americ
 an National Museum:geo:42.3222224,-83.1766346
END:VEVENT
BEGIN:VTIMEZONE
TZID:America/Detroit
X-LIC-LOCATION:America/Detroit
BEGIN:DAYLIGHT
DTSTART:20230312T030000
TZOFFSETFROM:-0500
TZOFFSETTO:-0400
TZNAME:EDT
END:DAYLIGHT
END:VTIMEZONE
END:VCALENDAR