BEGIN:VCALENDAR
VERSION:2.0
PRODID:-//wp-events-plugin.com//7.2.3.1//EN
TZID:America/Detroit
X-WR-TIMEZONE:America/Detroit
BEGIN:VEVENT
UID:35556@arabamerica.com
DTSTART;TZID=America/Detroit:20260825T113000
DTEND;TZID=America/Detroit:20260825T123000
DTSTAMP:20251216T070109Z
URL:https://www.arabamerica.com/events/cookbook-club-arabiyya-recipes-from
 -the-life-of-an-arab-in-diaspora/
SUMMARY:Cookbook Club: Arabiyya: recipes from the life of an Arab in diaspo
 ra
DESCRIPTION:\nJoin your community in a librarian-led discussion of Arabiyya
 : recipes from the life of an Arab in diaspora by Reem Assil.\n\n\n\n\nJoi
 n your community for a monthly librarian-led book club.\n\nRead and discus
 s Arabiyya: recipes from the life of an Arab in diaspora by Reem Assil\n
 \nClick here for information about upcoming book clubs throughout the cou
 nty.\n\n\n
ATTACH;FMTTYPE=image/jpeg:https://www.arabamerica.com/wp-content/uploads/2
 025/12/Screenshot-2025-12-15-at-11.05.45-PM.png
LOCATION:southeast regional library\, 908 7th Avenue\, Garner\, North Carol
 ina\, 27529\, United States
GEO:35.706013;-78.621065
X-APPLE-STRUCTURED-LOCATION;VALUE=URI;X-ADDRESS=908 7th Avenue\, Garner\, N
 orth Carolina\, 27529\, United States;X-APPLE-RADIUS=100;X-TITLE=southeast
  regional library:geo:35.706013,-78.621065
END:VEVENT
BEGIN:VTIMEZONE
TZID:America/Detroit
X-LIC-LOCATION:America/Detroit
BEGIN:DAYLIGHT
DTSTART:20260308T030000
TZOFFSETFROM:-0500
TZOFFSETTO:-0400
TZNAME:EDT
END:DAYLIGHT
END:VTIMEZONE
END:VCALENDAR