BEGIN:VCALENDAR
VERSION:2.0
PRODID:-//wp-events-plugin.com//7.2.3.1//EN
TZID:America/Detroit
X-WR-TIMEZONE:America/Detroit
BEGIN:VEVENT
UID:32971@arabamerica.com
DTSTART;TZID=America/Detroit:20240630T140000
DTEND;TZID=America/Detroit:20240630T163000
DTSTAMP:20240605T170832Z
URL:https://www.arabamerica.com/events/cooking-class-simit-sunday-levantin
 e-brunch-3/
SUMMARY:Cooking Class - Simit Sunday & Levantine Brunch
DESCRIPTION:ARLINGTON\, VA\n\n\n\nThis is an in person interactive experien
 ce where you will learn how to make delicious middle eastern bagel type pa
 stries known as simit or ka'ak topped with sesame seeds\, nigella seeds\, 
 Zatar or everything bagel seasoning along with other traditional levantine
  meatless brunch delicacies.\n\nSahtain Nunu’s Cooking experiences are p
 erfect for anyone who wants to start cooking\, loves to cook\, or just wan
 ts to learn some new skills in the kitchen. It's also a great way to conne
 ct with new acquaintances while breaking bread\, enjoying a fun afternoon 
 sipping and noshing on middle eastern yummyness.\n\n 	You will work with o
 ther students in groups of 4 to 5\, sharing workstations and equipment.\n 
 	Hands-on classes are limited to 12-16 students.\n 	You will be standing\,
  cooking and working for most of the class.\n 	All you need is yourself\, 
 your cooking spirit and I will take care of the rest.\n\nSo why wait? Yell
 ah\, sign up now!\n\nMENU\n\nCome hungry!\n\nMimosas\, Juice Mock-tail\, a
  lavish brunch mezza grazing board prepared from my recipes for you to enj
 oy while we cook. We will conclude the cooking experience with indulging i
 n simit pastry and other middle eastern brunch preperations. Plus I always
  include fun cooking swag for you to take home...\n\nShukran (thank you) t
 o our wonderful friends at Lebanese Taverna for extending a 15% discount i
 n the market for purchases the day of our cooking class.\n\nFollow sahtain
 .nunu on Instagram\, tiktok\, Eventbrite and YouTube for more middle easte
 rn cooking!\n\n\n\n\n\n\n\n\n\n\n\n\n\n\n\n\n\n\n\n\n\n\n\n\n\n\n\n\n\n\n\
 n\n\n\n\n\n\n\n\n\n\n\n\n\n\n\n\n\n\n\n\n\n\n\n\n\n\n\n
ATTACH;FMTTYPE=image/jpeg:https://www.arabamerica.com/wp-content/uploads/2
 024/06/Screenshot-2024-06-05-100408.png
LOCATION:Lebanese Taverna Market\, 4400 Old Dominion Drive\, Arlington\, VA
 \, 22207\, United States
GEO:38.899076;-77.11746
X-APPLE-STRUCTURED-LOCATION;VALUE=URI;X-ADDRESS=4400 Old Dominion Drive\, A
 rlington\, VA\, 22207\, United States;X-APPLE-RADIUS=100;X-TITLE=Lebanese 
 Taverna Market:geo:38.899076,-77.11746
END:VEVENT
BEGIN:VTIMEZONE
TZID:America/Detroit
X-LIC-LOCATION:America/Detroit
BEGIN:DAYLIGHT
DTSTART:20240310T030000
TZOFFSETFROM:-0500
TZOFFSETTO:-0400
TZNAME:EDT
END:DAYLIGHT
END:VTIMEZONE
END:VCALENDAR