BEGIN:VCALENDAR
VERSION:2.0
PRODID:-//wp-events-plugin.com//7.2.3.1//EN
TZID:America/Detroit
X-WR-TIMEZONE:America/Detroit
BEGIN:VEVENT
UID:35318@arabamerica.com
DTSTART;TZID=America/Chicago:20251029T190000
DTEND;TZID=America/Chicago:20251101T200000
DTSTAMP:20251028T190919Z
URL:https://www.arabamerica.com/events/cooking-classes-foundational-culina
 ry-techniques-palestine/
SUMMARY:Cooking classes: Foundational Culinary Techniques - Palestine
DESCRIPTION:Hello Palestine! Get insights into Cooking classes: Foundationa
 l Culinary Techniques in this special online session. This talk is designe
 d for anyone in our community looking to build a solid base in the kitchen
 . We will explore the core principles that separate good cooking from grea
 t cooking\, providing you with the knowledge to approach recipes with more
  confidence and creativity\, right from your own home.\n\nUnderstanding th
 e fundamentals is key to culinary success. Instead of just following steps
 \, you will learn about the 'why' behind the methods. We will cover how pr
 oper technique can transform simple ingredients\, whether from a local Pal
 estine market or your own pantry\, and improve the consistency of your mea
 ls. This knowledge allows for greater flexibility and improvisation\, movi
 ng you beyond rigid recipe adherence. Discover how professional chefs thin
 k about food preparation and execution.\n\nIn this online talk\, you will 
 explore several key areas:\n\n 	Knife Skills: Learn about the essential cu
 ts and how proper knife handling improves both safety and efficiency in th
 e kitchen.\n 	Heat Management: Understand the difference between searing\,
  sautéing\, and roasting. We will discuss how to control temperature for 
 perfect results every time.\n 	Flavor Building: Explore the principles of 
 seasoning\, balancing tastes like salt\, acid\, and fat\, and how to layer
  flavors for a more complex dish.\n 	Basic Sauce Making: Get an introducti
 on to the concepts behind classic sauces and how they can elevate any meal
 .\n\nThis exploration of Cooking classes: Foundational Culinary Techniques
  is about empowering you with information. By understanding these essentia
 l skills\, you will have a framework for tackling any recipe and developin
 g your own style. While this session is designed with the Palestine commun
 ity in mind\, it is an online event accessible globally. It is an opportun
 ity to learn about the building blocks of delicious food from an expert pe
 rspective\, wherever you are.
ATTACH;FMTTYPE=image/jpeg:https://www.arabamerica.com/wp-content/uploads/2
 025/10/https___cdn.evbuc_.com_images_1162532203_2968093330721_1_original.j
 peg
END:VEVENT
BEGIN:VTIMEZONE
TZID:America/Chicago
X-LIC-LOCATION:America/Chicago
BEGIN:DAYLIGHT
DTSTART:20250309T030000
TZOFFSETFROM:-0600
TZOFFSETTO:-0500
TZNAME:CDT
END:DAYLIGHT
END:VTIMEZONE
END:VCALENDAR