BEGIN:VCALENDAR
VERSION:2.0
PRODID:-//wp-events-plugin.com//7.2.3.1//EN
TZID:America/Detroit
X-WR-TIMEZONE:America/Detroit
BEGIN:VEVENT
UID:33270@arabamerica.com
DTSTART;TZID=America/Detroit:20240816T170000
DTEND;TZID=America/Detroit:20240816T170000
DTSTAMP:20240724T225819Z
URL:https://www.arabamerica.com/events/corb-lund-with-chali-2na-cut-chemis
 t-elaquent-and-habit-more/
SUMMARY:Corb Lund with Chali 2na\, Cut Chemist\, Elaquent and Habit more...
DESCRIPTION:ON\, CA\nBissell Park Washroom\, Elora\, ON\, CA\nFri\, Aug 16 
 • 5:00 PM\n\n\n\n\n\n
ATTACH;FMTTYPE=image/jpeg:https://www.arabamerica.com/wp-content/uploads/2
 024/07/Screenshot-2024-07-24-155315.png
LOCATION:Bissell Park Washroom\, Elora\, ON\, CA\, United States
GEO:43.683715;-80.430543
X-APPLE-STRUCTURED-LOCATION;VALUE=URI;X-ADDRESS=Elora\, ON\, CA\, United St
 ates;X-APPLE-RADIUS=100;X-TITLE=Bissell Park Washroom:geo:43.683715,-80.43
 0543
END:VEVENT
BEGIN:VTIMEZONE
TZID:America/Detroit
X-LIC-LOCATION:America/Detroit
BEGIN:DAYLIGHT
DTSTART:20240310T030000
TZOFFSETFROM:-0500
TZOFFSETTO:-0400
TZNAME:EDT
END:DAYLIGHT
END:VTIMEZONE
END:VCALENDAR