BEGIN:VCALENDAR
VERSION:2.0
PRODID:-//wp-events-plugin.com//7.2.3.1//EN
TZID:America/Detroit
X-WR-TIMEZONE:America/Detroit
BEGIN:VEVENT
UID:35370@arabamerica.com
DTSTART;TZID=America/Detroit:20251213T120000
DTEND;TZID=America/Detroit:20251213T170000
DTSTAMP:20251105T010401Z
URL:https://www.arabamerica.com/events/countdown-to-christmas-family-party
 -artisan-market/
SUMMARY:Countdown to Christmas: Family Party & Artisan Market
DESCRIPTION:DEARBORN\, MI\n\n\nCountdown to Christmas: Family Party &amp\; 
 Artisan Market \nFREE with RSVP\nJoin us with your family and friends at 
 AANM’s Countdown to Christmas: Family Party &amp\; Artisan market! This 
 FREE event features an exhibit scavenger hunt\, seasonal crafts and story 
 time for kids! The Countdown to Christmas will also feature an Artisan Mar
 ket with handmade items by local artists and makers.\n\n100% of vendor fee
 s will be donated to SAPA (Sudanese American Physician’s Association).
ATTACH;FMTTYPE=image/jpeg:https://www.arabamerica.com/wp-content/uploads/2
 025/11/54324150273_a346e89a33_o-2048x1365-1.jpg
LOCATION:Arab American National Museum\, 13624 Michigan Avenue\, Dearborn \
 , MI\, 48126\, United States
GEO:42.3222224;-83.1766346
X-APPLE-STRUCTURED-LOCATION;VALUE=URI;X-ADDRESS=13624 Michigan Avenue\, Dea
 rborn \, MI\, 48126\, United States;X-APPLE-RADIUS=100;X-TITLE=Arab Americ
 an National Museum:geo:42.3222224,-83.1766346
END:VEVENT
BEGIN:VTIMEZONE
TZID:America/Detroit
X-LIC-LOCATION:America/Detroit
BEGIN:STANDARD
DTSTART:20251102T010000
TZOFFSETFROM:-0400
TZOFFSETTO:-0500
TZNAME:EST
END:STANDARD
END:VTIMEZONE
END:VCALENDAR