BEGIN:VCALENDAR
VERSION:2.0
PRODID:-//wp-events-plugin.com//7.2.3.1//EN
TZID:America/Detroit
X-WR-TIMEZONE:America/Detroit
BEGIN:VEVENT
UID:34499@arabamerica.com
DTSTART;TZID=America/Detroit:20250621T190000
DTEND;TZID=America/Detroit:20250621T230000
DTSTAMP:20250602T201658Z
URL:https://www.arabamerica.com/events/crescent-social-an-eid-celebration/
SUMMARY:Crescent Social: An Eid Celebration!
DESCRIPTION:BROOKLYN\, NY\n\nCome join us for a night of fun and entertainm
 ent at Crescent Social. Get ready a networking event like no other on Sat 
 June 21st 2025 at 7:00 PM EST. The event will be held at Please Space Stud
 ios - 610 Smith Street Floor 3 Brooklyn\, NY 11231\n\nEnjoy live music\, d
 elicious halal food\, and drinks as we celebrate and socialize together. D
 on't miss out on this exciting opportunity to connect with others in a vib
 rant and welcoming atmosphere.\n\nMark your calendars and get ready for a 
 night to remember at Crescent Social!
ATTACH;FMTTYPE=image/jpeg:https://www.arabamerica.com/wp-content/uploads/2
 025/06/Screenshot-2025-06-02-at-4.17.59 PM.png
LOCATION:Please Space Studios\, 610 Smith Street\, Brooklyn\, NY\, 11231\, 
 United States
GEO:40.670106;-74.000721
X-APPLE-STRUCTURED-LOCATION;VALUE=URI;X-ADDRESS=610 Smith Street\, Brooklyn
 \, NY\, 11231\, United States;X-APPLE-RADIUS=100;X-TITLE=Please Space Stud
 ios:geo:40.670106,-74.000721
END:VEVENT
BEGIN:VTIMEZONE
TZID:America/Detroit
X-LIC-LOCATION:America/Detroit
BEGIN:DAYLIGHT
DTSTART:20250309T030000
TZOFFSETFROM:-0500
TZOFFSETTO:-0400
TZNAME:EDT
END:DAYLIGHT
END:VTIMEZONE
END:VCALENDAR