BEGIN:VCALENDAR
VERSION:2.0
PRODID:-//wp-events-plugin.com//7.2.3.1//EN
TZID:America/Detroit
X-WR-TIMEZONE:America/Detroit
BEGIN:VEVENT
UID:35173@arabamerica.com
DTSTART;TZID=America/New_York:20251010T193000
DTEND;TZID=America/New_York:20251010T210000
DTSTAMP:20250930T162705Z
URL:https://www.arabamerica.com/events/crosscurrents-in-jazz-arabic-music-
 featuring-dharma-down-gideon-forbes/
SUMMARY:Crosscurrents in Jazz & Arabic Music\, featuring Dharma Down\, Gide
 on Forbes
DESCRIPTION:LEWISTON\, ME\n\n&nbsp\;\n\nThis double bill features two jazz 
 ensembles that are heavily influenced by traditional Arabic music.\n\nThis
  double bill features two jazz ensembles that are heavily influenced by tr
 aditional Arabic music. Drawing on their extensive experiences in the jazz
  and Arabic music worlds\, Duncan Hardy and Gideon Forbes' ensembles showc
 ase original music &amp\; arrangements that draw on the rich improvisation
 al and compositional features of these two music traditions.\n\nGET TICKET
 S HERE\n\n&nbsp\;
ATTACH;FMTTYPE=image/jpeg:https://www.arabamerica.com/wp-content/uploads/2
 025/09/Screenshot-2025-09-30-at-12.27.20-PM.png
LOCATION:Olin Arts Center\, 75 Russell Street\, Lewiston \, ME\, 04240\, Un
 ited States
GEO:44.1082;-70.202038
X-APPLE-STRUCTURED-LOCATION;VALUE=URI;X-ADDRESS=75 Russell Street\, Lewisto
 n \, ME\, 04240\, United States;X-APPLE-RADIUS=100;X-TITLE=Olin Arts Cente
 r:geo:44.1082,-70.202038
END:VEVENT
BEGIN:VTIMEZONE
TZID:America/New_York
X-LIC-LOCATION:America/New_York
BEGIN:DAYLIGHT
DTSTART:20250309T030000
TZOFFSETFROM:-0500
TZOFFSETTO:-0400
TZNAME:EDT
END:DAYLIGHT
END:VTIMEZONE
END:VCALENDAR