BEGIN:VCALENDAR
VERSION:2.0
PRODID:-//wp-events-plugin.com//7.2.3.1//EN
TZID:America/Detroit
X-WR-TIMEZONE:America/Detroit
BEGIN:VEVENT
UID:35127@arabamerica.com
DTSTART;TZID=America/Detroit:20251002T180000
DTEND;TZID=America/Detroit:20251002T200000
DTSTAMP:20250916T232630Z
URL:https://www.arabamerica.com/events/culinary-crossroads-the-french-moro
 ccan-table-6/
SUMMARY:Culinary Crossroads: The French Moroccan Table
DESCRIPTION:COLUMBUS\, OH\n\nMorocco’s unique history at the crossroads o
 f civilizations has given its cuisine the well-deserved reputation as the 
 culinary star of North\n\n\n\nExperience the vibrant flavors of Morocco\, 
 the culinary star of North Africa\, in this hands-on cooking class. Morocc
 o’s unique history\, including a 44-year connection as a French protecto
 rate\, has influenced its cuisine\, blending North African traditions with
  European finesse.\n\nJoin food writer and chef-instructor Shawnie Kelley 
 as she guides you through creating a flavorful Moroccan-inspired menu:\n\n
  	Ras-el-Hanout Moroccan Lamb Meatballs: Learn to make a traditional North
  African spice blend to flavor tender lamb meatballs.\n 	Lemon Saffron Cou
 scous: Serve the meatballs over aromatic couscous studded with olives and 
 herbs.\n 	Cucumber and Mint Salad: A refreshing side to balance the warmth
  of the spices.\n 	Gazelle Horns (Pastry Crescents): End the meal on a swe
 et note by shaping almond-filled pastry crescents\, a Moroccan classic oft
 en enjoyed with coffee or tea.\n\nDuring the class\, Shawnie will discuss 
 the unique flavors of Moroccan cooking\, share her experiences living in t
 he south of France\, and guide you on sourcing authentic ingredients. Comp
 lete your culinary journey with a glass of wine or mint tea to pair with y
 our meal.\n\nEvent Details:\n\n 	Date: Thursday\, October 2nd 2025\n 	Time
 : 6:00 PM\n 	Location: Mitchell Hall at Columbus State Community College\,
  250 Cleveland Ave\, Columbus\, OH 43215\n 	Cost: $90.00\n 	Great Gift Ide
 a: Our classes make thoughtful and delicious gifts!\n\nAdditional Informat
 ion:\n\n 	You will be standing\, cooking\, and working for most of the cla
 ss.\n 	Please wear comfortable\, closed-toe shoes and tie back long hair.\
 n 	Cancellation Policy: Cancel up to 48 hours before the class for a refun
 d or class credit.\n\nJoin us for a flavorful adventure that brings the es
 sence of Morocco to your kitchen!\n\n\n\n\n\n\nYou will be making:\n\n· M
 oroccan Lamb Meatballs\n\n&nbsp\;\n\n· Saffron Couscous with Olives\n\n&n
 bsp\;\n\n· Cucumber and Mint Salad\n\n&nbsp\;\n\n· Gazelle Horns (almond
  filled crescents)\n\nGet Tickets Here\n\n\n
LOCATION:Mitchell Hall\, 250 Cleveland Avenue\, Columbus\, OH\, 43215\, Uni
 ted States
GEO:39.968803;-82.9901749
X-APPLE-STRUCTURED-LOCATION;VALUE=URI;X-ADDRESS=250 Cleveland Avenue\, Colu
 mbus\, OH\, 43215\, United States;X-APPLE-RADIUS=100;X-TITLE=Mitchell Hall
 :geo:39.968803,-82.9901749
END:VEVENT
BEGIN:VTIMEZONE
TZID:America/Detroit
X-LIC-LOCATION:America/Detroit
BEGIN:DAYLIGHT
DTSTART:20250309T030000
TZOFFSETFROM:-0500
TZOFFSETTO:-0400
TZNAME:EDT
END:DAYLIGHT
END:VTIMEZONE
END:VCALENDAR