BEGIN:VCALENDAR
VERSION:2.0
PRODID:-//wp-events-plugin.com//7.2.3.1//EN
TZID:America/Detroit
X-WR-TIMEZONE:America/Detroit
BEGIN:VEVENT
UID:31603@arabamerica.com
DTSTART;TZID=America/Detroit:20230919T173000
DTEND;TZID=America/Detroit:20230919T200000
DTSTAMP:20230821T234729Z
URL:https://www.arabamerica.com/events/cultural-connection-mindful-communi
 cation-in-a-diverse-world/
SUMMARY:Cultural Connection: Mindful Communication in a Diverse World
DESCRIPTION:Join us as AWC Detroit explores the ways in which communication
  fosters cultural harmony and respect\, with experts from education\, city
  government and public relations. Our discussion will provide the audience
  with actionable tools to use in personal\, professional and social spaces
  for more meaningful and constructive conversations about diversity\, equi
 ty and inclusion.\n\nYou will learn:\n\n 	The mindset that helps us commun
 icate effectively and thoughtfully\n 	How to monitor communications for ID
 EA - inclusivity\, diversity\, equity and access\n 	Words and phrases that
  might inadvertently give the wrong impression\n 	How to recognize cultura
 l cues that can elevate your communication\n 	The importance of teaching c
 ultural respect early\n 	How to walk the walk: why we should\, and how we 
 can reflect inclusivity in our daily lives\n
ATTACH;FMTTYPE=image/jpeg:https://www.arabamerica.com/wp-content/uploads/2
 023/08/Screen-Shot-2023-08-21-at-7.40.58-PM.png
CATEGORIES:#arabic,Arabic Discussion,Communication,Culture and
 diversity,Discussion,Government
LOCATION:Arab American National Museum\, 13624 Michigan Ave\, Dearborn\, MI
 \, 8126\, United States
GEO:42.3222224;-83.1766346
X-APPLE-STRUCTURED-LOCATION;VALUE=URI;X-ADDRESS=13624 Michigan Ave\, Dearbo
 rn\, MI\, 8126\, United States;X-APPLE-RADIUS=100;X-TITLE=Arab American Na
 tional Museum:geo:42.3222224,-83.1766346
END:VEVENT
BEGIN:VTIMEZONE
TZID:America/Detroit
X-LIC-LOCATION:America/Detroit
BEGIN:DAYLIGHT
DTSTART:20230312T030000
TZOFFSETFROM:-0500
TZOFFSETTO:-0400
TZNAME:EDT
END:DAYLIGHT
END:VTIMEZONE
END:VCALENDAR