BEGIN:VCALENDAR
VERSION:2.0
PRODID:-//wp-events-plugin.com//7.2.3.1//EN
TZID:America/Detroit
X-WR-TIMEZONE:America/Detroit
BEGIN:VEVENT
UID:35584@arabamerica.com
DTSTART;TZID=America/Detroit:20260327T140000
DTEND;TZID=America/Detroit:20260327T140000
DTSTAMP:20251216T192723Z
URL:https://www.arabamerica.com/events/cultural-crochet-masterclass-morocc
 an-tile-stitch-basket-2/
SUMMARY:Cultural Crochet Masterclass - Moroccan Tile Stitch Basket
DESCRIPTION:LAS VEGAS\, NV\n\n\n\nDiscover the beauty of global crochet tra
 ditions in this hands-on masterclass featuring the Moroccan Tile Stitch Ba
 sket.\n\n\n\n\n&#x2728\; Celebrate Craft\, Culture &amp\; Community! Join 
 us for a vibrant Cultural Crochet Masterclass featuring the stunning Moroc
 can Tile Stitch Basket. This hands-on workshop blends artistry with tradit
 ion—teaching advanced techniques while honoring global craftsmanship. Th
 is project is supported in part by the Nevada Arts Council and the Nationa
 l Endowment for the Arts.\n\n&#x1f9f6\; Learn the intricate Moroccan Tile 
 Stitch\n\n&#x1f30d\; Explore cultural roots behind the design\n\n&#x1f9fa\
 ; Create a beautiful\, functional basket to take home\n\n&#x1f4ac\; Connec
 t with fellow makers in a warm\, inclusive space\n\n&#x1f4cd\; Location: D
 ignity Health Wellness Center 9880 W Flamingo Road Suite 220 Las Vegas\, N
 evada 89147\n\n&#x1f4c5\; Dates: Fridays March 27th and April 3rd\n\n&#x1f
 553\; Time: 2:00 PM – 5:30 PM\n\n&#x1f17f\;&#xfe0f\; Free parking availa
 ble\n\nParticipants must be able to single crochet to fully enjoy and enga
 ge with the class.\n\nLet your creativity flourish and be part of a moveme
 nt that celebrates crochet as a cultural\, sustainable\, and community-bui
 lding practice. Reserve your spot today—spaces are limited! Questions? C
 all Ms. Merri (702)236-7670.\n\n\n
ATTACH;FMTTYPE=image/jpeg:https://www.arabamerica.com/wp-content/uploads/2
 025/12/https-cdn.evbuc_.com-images-1127636103-78383086533-1-original.20250
 917-233708.jpeg
LOCATION:Dignity Health Wellness Center - West Flamingo\, 9880 West Flaming
 o Road #Ste 220\, Las Vegas\, NV\, 89147\, United States
GEO:36.115836;-115.307534
X-APPLE-STRUCTURED-LOCATION;VALUE=URI;X-ADDRESS=9880 West Flamingo Road #St
 e 220\, Las Vegas\, NV\, 89147\, United States;X-APPLE-RADIUS=100;X-TITLE=
 Dignity Health Wellness Center - West Flamingo:geo:36.115836,-115.307534
END:VEVENT
BEGIN:VTIMEZONE
TZID:America/Detroit
X-LIC-LOCATION:America/Detroit
BEGIN:DAYLIGHT
DTSTART:20260308T030000
TZOFFSETFROM:-0500
TZOFFSETTO:-0400
TZNAME:EDT
END:DAYLIGHT
END:VTIMEZONE
END:VCALENDAR