BEGIN:VCALENDAR
VERSION:2.0
PRODID:-//wp-events-plugin.com//7.2.3.1//EN
TZID:America/Detroit
X-WR-TIMEZONE:America/Detroit
BEGIN:VEVENT
UID:35597@arabamerica.com
DTSTART:20260116T210000Z
DTEND:20260117T003000Z
DTSTAMP:20251217T042643Z
URL:https://www.arabamerica.com/events/cultural-crochet-masterclass-tunisi
 an-beaded-scarf-2/
SUMMARY:Cultural Crochet Masterclass - Tunisian Beaded Scarf
DESCRIPTION:LAS VEGAS\, NV\n\n\n\n\n\n\nOverview\n\n\n\n\n\nDiscover the be
 auty of global crochet traditions in this hands-on masterclass featuring t
 he Tunisian Beaded Scarf.\n\n\n\n\n&#x2728\; Celebrate Craft\, Culture &a
 mp\; Community! Join us for a vibrant Cultural Crochet Masterclass featur
 ing the stunning Tunisian Beaded Scarf. This hands-on workshop blends arti
 stry with tradition—teaching advanced techniques while honoring global c
 raftsmanship. This project is supported in part by the Nevada Arts Council
  and the National Endowment for the Arts.\n\n&#x1f9f6\; Learn the intricat
 e fundamentals of Tunisian Crochet\n\n&#x1f30d\; Explore cultural signific
 ance behind the design\n\n&#x1f9fa\; Create a beautiful\, functional scarf
  to take home\n\n&#x1f4ac\; Connect with fellow crochet enthusiasts in an 
 upbeat\, inclusive space\n\n&#x1f4cd\; Location: Dignity Health Wellness
  Center 9880 W Flamingo Road Suite 220 Las Vegas\, Nevada 89147\n\n&#x1f4c
 5\; Dates: Fridays January 16th &amp\; 30th\n\n&#x1f553\; Time: 2:00 P
 M – 5:30 PM\n\n&#x1f17f\;&#xfe0f\; Free parking available\n\nParticipant
 s must be able to single crochet to fully enjoy and engage with the class
 .\n\nLet your creativity flourish and be part of a movement that celebrate
 s crochet as a cultural\, sustainable\, and community-building practice. R
 eserve your spot today—spaces are limited! Questions? Call Ms. Merri (70
 2)236-7670.\n\n\n\n\n\n\n\n\n\n\n
ATTACH;FMTTYPE=image/jpeg:https://www.arabamerica.com/wp-content/uploads/2
 025/12/pexels-drmkhawarnazir-35155833-scaled.jpg
CATEGORIES:culture,Tunisia,Tunisian,Tunisian Crochet
LOCATION:Dignity Health Wellness Center\, 9880 W Flamingo Road Suite 220\, 
 Las Vegas\, NV\, 89147\, United States
GEO:36.115836;-115.307534
X-APPLE-STRUCTURED-LOCATION;VALUE=URI;X-ADDRESS=9880 W Flamingo Road Suite 
 220\, Las Vegas\, NV\, 89147\, United States;X-APPLE-RADIUS=100;X-TITLE=Di
 gnity Health Wellness Center:geo:36.115836,-115.307534
END:VEVENT
END:VCALENDAR