BEGIN:VCALENDAR
VERSION:2.0
PRODID:-//wp-events-plugin.com//7.2.3.1//EN
TZID:America/Detroit
X-WR-TIMEZONE:America/Detroit
BEGIN:VEVENT
UID:35188@arabamerica.com
DTSTART;TZID=America/Los_Angeles:20251209T160000
DTEND;TZID=America/Los_Angeles:20251209T193000
DTSTAMP:20251001T050516Z
URL:https://www.arabamerica.com/events/cultural-crochet-masterclass-tunisi
 an-beaded-scarf/
SUMMARY:Cultural Crochet Masterclass - Tunisian Beaded Scarf
DESCRIPTION:LAS VEGAS\, NV\n\n&#x2728\; Celebrate Craft\, Culture &amp\; C
 ommunity! Join us for a vibrant Cultural Crochet Masterclass featuring th
 e stunning Tunisian Beaded Scarf. This hands-on workshop blends artistry w
 ith tradition—teaching advanced techniques while honoring global craftsm
 anship.\n\n&#x1f9f6\; Learn the intricate fundamentals of Tunisian Crochet
 \n\n&#x1f30d\; Explore cultural significance behind the design\n\n&#x1f9fa
 \; Create a beautiful\, functional handbag to take home\n\n&#x1f4ac\; Conn
 ect with fellow crochet enthusiasts in an upbeat\, inclusive space\n\n&#x1
 f4cd\; Location: Findlay Honda Centennial Hills 7494 West Azure Drive\, 
 Las Vegas\, NV 89130 2nd Floor Conference Room\n\n&#x1f4c5\; Dates: Tues
 days December 9th &amp\; 16th\n\n&#x1f553\; Time: 4:00 PM – 7:30 PM\n\
 n&#x1f17f\;&#xfe0f\; Free parking available\n\nParticipants must be able t
 o single crochet to fully enjoy and engage with the class.\n\nLet your cr
 eativity flourish and celebrate crochet as a cultural\, sustainable\, and 
 community-building practice. Reserve your spot today—spaces are limited!
 \n\nQuestions? Call Ms. Merri (702)236-7670.
ATTACH;FMTTYPE=image/jpeg:https://www.arabamerica.com/wp-content/uploads/2
 025/10/Screen-Shot-2025-10-01-at-1.04.13-AM.png
LOCATION:Findlay Honda in Centennial Hills\, 7494 West Azure Drive\, Las Ve
 gas \, Nevada \, 89130\, United States
GEO:36.275402;-115.257743
X-APPLE-STRUCTURED-LOCATION;VALUE=URI;X-ADDRESS=7494 West Azure Drive\, Las
  Vegas \, Nevada \, 89130\, United States;X-APPLE-RADIUS=100;X-TITLE=Findl
 ay Honda in Centennial Hills:geo:36.275402,-115.257743
END:VEVENT
BEGIN:VTIMEZONE
TZID:America/Los_Angeles
X-LIC-LOCATION:America/Los_Angeles
BEGIN:STANDARD
DTSTART:20251102T010000
TZOFFSETFROM:-0700
TZOFFSETTO:-0800
TZNAME:PST
END:STANDARD
END:VTIMEZONE
END:VCALENDAR