BEGIN:VCALENDAR
VERSION:2.0
PRODID:-//wp-events-plugin.com//7.2.3.1//EN
TZID:America/Detroit
X-WR-TIMEZONE:America/Detroit
BEGIN:VEVENT
UID:35869@arabamerica.com
DTSTART;TZID=America/Chicago:20260224T173000
DTEND;TZID=America/Chicago:20260224T193000
DTSTAMP:20260216T035428Z
URL:https://www.arabamerica.com/events/cultural-dinner-series-iftar-dinner
 -2/
SUMMARY:Cultural Dinner Series -Iftar Dinner
DESCRIPTION:UNA Houston warmly invites you to a Cultural Dinner – Iftar\
 , an evening open to everyone to experience and learn about the culture 
 and traditions of Ramadan in a welcoming\, inclusive setting. This gathe
 ring is designed to introduce the spirit of Ramadan—reflection\, generos
 ity\, and community.
ATTACH;FMTTYPE=image/jpeg:https://www.arabamerica.com/wp-content/uploads/2
 026/02/image-25.webp
CATEGORIES:Houston,Iftar,Iftar Dinner,texas
LOCATION:Reza Persian Grill\, 5714 Hillcroft Avenue\, Houston\, TX\, 77036\
 , United States
GEO:29.720741;-95.501644
X-APPLE-STRUCTURED-LOCATION;VALUE=URI;X-ADDRESS=5714 Hillcroft Avenue\, Hou
 ston\, TX\, 77036\, United States;X-APPLE-RADIUS=100;X-TITLE=Reza Persian 
 Grill:geo:29.720741,-95.501644
END:VEVENT
BEGIN:VTIMEZONE
TZID:America/Chicago
X-LIC-LOCATION:America/Chicago
BEGIN:STANDARD
DTSTART:20251102T010000
TZOFFSETFROM:-0500
TZOFFSETTO:-0600
TZNAME:CST
END:STANDARD
END:VTIMEZONE
END:VCALENDAR