BEGIN:VCALENDAR
VERSION:2.0
PRODID:-//wp-events-plugin.com//7.2.3.1//EN
TZID:America/Detroit
X-WR-TIMEZONE:America/Detroit
BEGIN:VEVENT
UID:34636@arabamerica.com
DTSTART;TZID=America/Detroit:20250628T143000
DTEND;TZID=America/Detroit:20250628T190000
DTSTAMP:20250623T150201Z
URL:https://www.arabamerica.com/events/cypher-for-gaza-2/
SUMMARY:Cypher for Gaza
DESCRIPTION:BROOKLYN\, NY\n\n&#x1f54a\;&#xfe0f\; Cypher for Gaza\n\nA day o
 f movement\, community\, and solidarity. All youth and adult breakers are 
 invited to join this powerful cypher uplifting the people of Gaza. 100% of
  proceeds support @campsbreakerz\, who provide breaking classes\, trauma r
 elief\, and critical aid to children in Gaza.\n\nYOUR RSVP IS NOT A TICKET
  FOR ENTRY\n\n&#x1f39f\;&#xfe0f\; $10 at the door | All proceeds go to @ca
 mpsbreakerz\n\n&#x1f300\; 2:30–3:30pm: Opening conversation on care and 
 solidarity in the breaking community\, plus the Colors of Hope art project
 \n\n&#x1f45f\; 3:30pm: Cypher Kid (ages 13 &amp\; under)&#x1f525\; 5:00pm:
  Cypher King (ages 14+)\n\nDancing Through Prison Walls stands in solidari
 ty with the Palestinian people and understands Gaza as the world’s large
 st open-air prison.\n\nCo-hosted with:\n\n 	@one_society_crew\n 	@original
 brothersnyc\n 	@bgirlcity\n 	@mzkworldwide\n 	@intothedeep.us\n\nLet’s b
 reak together\, build together\, and move toward collective liberation.\n\
 n_________________________________________________________________________
 _\n\nAbout the Artists\n\nDancing Through Prison Walls is a California-bas
 ed dance and performance project whose mission is to dance with\, choreogr
 aph with\, and tell stories within embodied carceral landscapes and beyond
 \, amplifying voices of incarcerated people\, and addressing mass incarcer
 ation. Begun in 2016\, the work embraces a porous community of incarcerate
 d\, formerly incarcerated\, and “free world” dancers\, choreographers\
 , visual artists\, and performers. The resulting hours of dance\, dance ma
 king\, performance\, film creation\, writing\, and community conversations
  comprise a body of work that is at its essence a critical dialogue about 
 freedom\, confinement\, and ways for surviving restriction\, limitations\,
  and denial of liberty through the act of dancing. Moving towards our Nort
 h Star goal of decarceration and abolition\, we dance through prison walls
 .\n\n&nbsp\;\n\n
ATTACH;FMTTYPE=image/jpeg:https://www.arabamerica.com/wp-content/uploads/2
 025/06/c.jpg
LOCATION:Recess\, 46 Washington Avenue\, Brooklyn \, New York\, 11205\, Uni
 ted States
GEO:40.697362;-73.968013
X-APPLE-STRUCTURED-LOCATION;VALUE=URI;X-ADDRESS=46 Washington Avenue\, Broo
 klyn \, New York\, 11205\, United States;X-APPLE-RADIUS=100;X-TITLE=Recess
 :geo:40.697362,-73.968013
END:VEVENT
BEGIN:VTIMEZONE
TZID:America/Detroit
X-LIC-LOCATION:America/Detroit
BEGIN:DAYLIGHT
DTSTART:20250309T030000
TZOFFSETFROM:-0500
TZOFFSETTO:-0400
TZNAME:EDT
END:DAYLIGHT
END:VTIMEZONE
END:VCALENDAR