BEGIN:VCALENDAR
VERSION:2.0
PRODID:-//wp-events-plugin.com//7.2.3.1//EN
TZID:America/Detroit
X-WR-TIMEZONE:America/Detroit
BEGIN:VEVENT
UID:35138@arabamerica.com
DTSTART;TZID=America/Detroit:20251013T150000
DTEND;TZID=America/Detroit:20251013T180000
DTSTAMP:20250923T130406Z
URL:https://www.arabamerica.com/events/dabke-and-dialogue-an-afternoon-of-
 solidarity-with-palestine/
SUMMARY:Dabke and Dialogue: An afternoon of Solidarity with Palestine
DESCRIPTION:NEW YORK\, NY\n\n\n\nDabke and Dialogue: An afternoon of Solida
 rity with Palestine\n\nYou are invited to an afternoon of community\, dial
 ogue\, fundraising and cultural celebration in solidarity with Palestine. 
 Together\, we’ll explore how social workers\, educators\, faith leaders\
 , artists\, and community members of all kinds can bring solidarity into t
 heir daily lives and collective work for justice.\n\nThe event will begin 
 with speakers from El-Funoun Palestinian Popular Dance Troupe discussing t
 heir history and values.\n\nThen we will form breakout discussion groups t
 o provide space to connect around shared identities\, professions\, and pa
 ssions\, deepening both conversation and community.\n\nThe afternoon will 
 culminate in a Dabke workshop led by members of renowned El-Funoun\, where
  we’ll learn this traditional Palestinian dance and its powerful role in
  culture and resistance.\n\nSmall bites and drinks will be provided and th
 ere will be a silent auction throughout with products from Justseeds Artis
 ts’ Cooperative\, Wear the Peace\, Handmade Palestine.\n\nGet your ticke
 ts now! The entry to the event is a sliding scale from $0 so that there is
  no financial barrier to attend. Under 18 do not need a ticket\; donations
  are welcome. All proceeds will directly support El-Funoun's cultural pres
 ervation efforts.\n\nThis event is organized in collaboration with El-Funo
 un by a collective representing the following organizations: Social Worker
 s for Justice in Palestine\, NYC Educators for Palestine\, USA Palestine M
 ental Health Network\, Asians for Palestine\, Amplify Palestine and Middle
  Collegiate Church.\n\nThe event is endorsed by Jewish Voice for Peace New
  York City (JVP-NYC)\, Palestinian Youth Movement New York City (PYM-NYC)\
 , and Network to Advance Abolitionist Social Work (NAASW).
ATTACH;FMTTYPE=image/jpeg:https://www.arabamerica.com/wp-content/uploads/2
 025/09/ddddd.jpeg
LOCATION:Middle Collegiate Church\, 50 East 7th Street \, New York\, NY\, 1
 0003\, United States
GEO:40.727567;-73.987672
X-APPLE-STRUCTURED-LOCATION;VALUE=URI;X-ADDRESS=50 East 7th Street \, New Y
 ork\, NY\, 10003\, United States;X-APPLE-RADIUS=100;X-TITLE=Middle Collegi
 ate Church:geo:40.727567,-73.987672
END:VEVENT
BEGIN:VTIMEZONE
TZID:America/Detroit
X-LIC-LOCATION:America/Detroit
BEGIN:DAYLIGHT
DTSTART:20250309T030000
TZOFFSETFROM:-0500
TZOFFSETTO:-0400
TZNAME:EDT
END:DAYLIGHT
END:VTIMEZONE
END:VCALENDAR