BEGIN:VCALENDAR
VERSION:2.0
PRODID:-//wp-events-plugin.com//7.2.3.1//EN
TZID:America/Detroit
X-WR-TIMEZONE:America/Detroit
BEGIN:VEVENT
UID:31575@arabamerica.com
DTSTART;TZID=America/Detroit:20240326T180000
DTEND;TZID=America/Detroit:20240326T210000
DTSTAMP:20240326T155633Z
URL:https://www.arabamerica.com/events/dabke-class-series-with-thowra-dabk
 e-at-aanm-august-2023/
SUMMARY:Dabke Class Series with Thowra Dabke at AANM (August 2023)
DESCRIPTION:Check out the dabke class series every Tuesday starting August 
 8th taught by Ayman\, the director of the professional dance team - Thowra
  Dabke. The two most common types of Levantine dabke will be taught\; 12-c
 ount (2 stomp) and 6-count (1 stomp). All classes are 1 hour long and are 
 held in person at the Annex of the Arab American National Museum located a
 t 13624 Michigan Ave\, Dearborn\, MI 48126.\n\nThere will be 3 levels of c
 lasses offered from 6-9pm\; beginner\, intermediate\, and advanced.\n\nIn 
 the beginner series you will learn the proper technique and all of the fun
 damentals with a few variations. This series is meant to allow one to foll
 ow along in a dabke line\n\nIn the intermediate series you will learn more
  complex steps and timing\, combining multiple moves together. This series
  is meant for one to be able to lead a dabke line.\n\nIn the advanced seri
 es you will learn even more complex moves and variations. This series is m
 eant to allow one to comfortably lead a line with the most complex freesty
 le moves and be able to join a dabke team. All classes build on the previo
 us one.\n\n&nbsp\;\n\nClasses can also be done virtually!\n\nVIRTUAL LINK:
 \n\nhttps://us05web.zoom.us/j/85754285640?pwd=NjYLh3mxKDY75drKi2qlKagLyutz
 Mp.1\n\n&nbsp\;\n\nClasses will be held on August 8\, 15\, 22\, 29\n\n6-7p
 m: Beginner\n\n7-8pm: Intermediate\n\n8-9pm: Advanced\n\nThe cost for all 
 4 classes is $55 or $45 for museum members and students. $15 for one class
 .\n\nPayment can be made in person via cash\, check\, Zelle\, Venmo\, Cash
 App\, or PayPal.\n\nSpecial pricing for students wanting to retake class o
 r series\, reach out to us.\n\n&nbsp\;\n\nWe currently have a few openings
  for those wanting to join our team! If you have completed the advanced se
 ries\, reach out to us for more details at thowra.dabke@gmail.comThe Annex
  at Arab American National Museum
ATTACH;FMTTYPE=image/jpeg:https://www.arabamerica.com/wp-content/uploads/2
 023/08/https___cdn.evbuc_.com_images_568901389_335453766391_1_original.jpe
 g
CATEGORIES:Arab American,Community,culture,Debka
LOCATION:The Annex at Arab American National Museum\, 13624 Michigan Avenue
   Dearborn\, MI 48126\, Dearborn\, United States
GEO:42.3222173;-83.17666550000001
X-APPLE-STRUCTURED-LOCATION;VALUE=URI;X-ADDRESS=13624 Michigan Avenue  Dear
 born\, MI 48126\, Dearborn\, United States;X-APPLE-RADIUS=100;X-TITLE=The 
 Annex at Arab American National Museum:geo:42.3222173,-83.17666550000001
END:VEVENT
BEGIN:VTIMEZONE
TZID:America/Detroit
X-LIC-LOCATION:America/Detroit
BEGIN:DAYLIGHT
DTSTART:20240310T030000
TZOFFSETFROM:-0500
TZOFFSETTO:-0400
TZNAME:EDT
END:DAYLIGHT
END:VTIMEZONE
END:VCALENDAR