BEGIN:VCALENDAR
VERSION:2.0
PRODID:-//wp-events-plugin.com//7.2.3.1//EN
TZID:America/Detroit
X-WR-TIMEZONE:America/Detroit
BEGIN:VEVENT
UID:31021@arabamerica.com
DTSTART;TZID=America/Detroit:20230721T220000
DTEND;TZID=America/Detroit:20230721T230000
DTSTAMP:20230510T213823Z
URL:https://www.arabamerica.com/events/dallas-comedy-club-presents-ahmed-a
 l-kadri/
SUMMARY:Dallas Comedy Club Presents: AHMED AL-KADRI
DESCRIPTION:Come see Ahmed Al-kadri\, LIVE\, July 21-22 at 10pm!\n\nAhmed A
 l-kadri is a Yemeni-American comedian coming to us all the way from Los An
 geles. Accounting is his true passion but his immigrant parents are forcin
 g him to be a comedian. His content on social media has garnered millions 
 of views and you may recognize him as "Liam" from the new series David Di
 amond Hands. This is a show you truly don't want to miss!
ATTACH;FMTTYPE=image/jpeg:https://www.arabamerica.com/wp-content/uploads/2
 023/05/https___cdn.evbuc_.com_images_500747229_1408768538963_1_original.jp
 eg
CATEGORIES:#comedy,#comedy_club,#comedy_show,Arab Comedian,Discussion
LOCATION:Dallas Comedy Club\, 3036 Elm Street \, Dallas\, TX \, 75226\, Uni
 ted States
GEO:32.78529;-96.779374
X-APPLE-STRUCTURED-LOCATION;VALUE=URI;X-ADDRESS=3036 Elm Street \, Dallas\,
  TX \, 75226\, United States;X-APPLE-RADIUS=100;X-TITLE=Dallas Comedy Club
 :geo:32.78529,-96.779374
END:VEVENT
BEGIN:VTIMEZONE
TZID:America/Detroit
X-LIC-LOCATION:America/Detroit
BEGIN:DAYLIGHT
DTSTART:20230312T030000
TZOFFSETFROM:-0500
TZOFFSETTO:-0400
TZNAME:EDT
END:DAYLIGHT
END:VTIMEZONE
END:VCALENDAR