BEGIN:VCALENDAR
VERSION:2.0
PRODID:-//wp-events-plugin.com//7.2.3.1//EN
TZID:America/Detroit
X-WR-TIMEZONE:America/Detroit
BEGIN:VEVENT
UID:35177@arabamerica.com
DTSTART;TZID=America/Detroit:20251004T193000
DTEND;TZID=America/Detroit:20251004T200000
DTSTAMP:20250930T184624Z
URL:https://www.arabamerica.com/events/dance-show-at-el-morocco-restaurant
 -2/
SUMMARY:Dance Show at El Morocco Restaurant
DESCRIPTION:PLEASANT HILL\, CA\n\n\nBelly Dance Show at El Morocco Restaura
 nt\nCome join us for a mesmerizing family-friendly belly dance show includ
 ed with dinner at Pleasant Hill! Guests of all ages will enjoy being trans
 ported to a magical atmosphere of Middle Eastern culture and music. Get re
 ady to experience an evening filled with captivating performances\, delici
 ous cuisine and beverages\, and exotic vibes.\n\n&nbsp\;\n\nEvent Days/Tim
 es:\n\nEvery Friday &amp\; Saturday at 7:30 PM and 9:00PM\n\nEvery Thursda
 y &amp\; Sunday at 8:00PM\n\n&nbsp\;\n\nDon't miss out on this enchanting 
 experience!\n\nCall for reservations at (925) 349-9313\n\nhttps://www.elmo
 roccorestaurant.com/\n\nHouse Dancers:\n\n 	Zahara\n 	Taryn Tabitha\n 	Joh
 anna Michelle\n 	Amira\n 	Anala\n 	Angelina\n 	Nicole Maria\n
ATTACH;FMTTYPE=image/jpeg:https://www.arabamerica.com/wp-content/uploads/2
 025/09/mar.jpeg
LOCATION:El Morocco Restaurant\, 2203 Morello Avenue \, Pleasant Hill\, CA\
 , 94523\, United States
GEO:37.961954;-122.079572
X-APPLE-STRUCTURED-LOCATION;VALUE=URI;X-ADDRESS=2203 Morello Avenue \, Plea
 sant Hill\, CA\, 94523\, United States;X-APPLE-RADIUS=100;X-TITLE=El Moroc
 co Restaurant:geo:37.961954,-122.079572
END:VEVENT
BEGIN:VTIMEZONE
TZID:America/Detroit
X-LIC-LOCATION:America/Detroit
BEGIN:DAYLIGHT
DTSTART:20250309T030000
TZOFFSETFROM:-0500
TZOFFSETTO:-0400
TZNAME:EDT
END:DAYLIGHT
END:VTIMEZONE
END:VCALENDAR