BEGIN:VCALENDAR
VERSION:2.0
PRODID:-//wp-events-plugin.com//7.2.3.1//EN
TZID:America/Detroit
X-WR-TIMEZONE:America/Detroit
BEGIN:VEVENT
UID:35659@arabamerica.com
DTSTART;TZID=America/Los_Angeles:20260110T193000
DTEND;TZID=America/Los_Angeles:20260110T200000
DTSTAMP:20260106T165238Z
URL:https://www.arabamerica.com/events/dance-show-at-el-morocco-restaurant
 -3/
SUMMARY:Dance Show at El Morocco Restaurant
DESCRIPTION:\nPLEASANT HILL\, CA\n\nGet ready to be mesmerized by the capti
 vating moves and vibrant energy of the Belly Dance Show – it's going to 
 be a night to remember!\n\n\n\nBelly Dance Show at El Morocco Restaurant\n
 Come join us for a mesmerizing family-friendly belly dance show included
  with dinner at Pleasant Hill! Guests of all ages will enjoy being transpo
 rted to a magical atmosphere of Middle Eastern culture and music. Get read
 y to experience an evening filled with captivating performances\, deliciou
 s cuisine and beverages\, and exotic vibes.\n\n&nbsp\;\n\nEvent Days/Times
 :\n\nEvery Friday &amp\; Saturday at 7:30 PM and 9:00PM\n\nEvery Thursday
  &amp\; Sunday at 8:00PM\n\n&nbsp\;\n\nDon't miss out on this enchanting e
 xperience!\n\nCall for reservations at (925) 349-9313\n\nhttps://www.elmor
 occorestaurant.com/\n\nHouse Dancers:\n\n 	Zahara\n 	Taryn Tabitha\n 	Joha
 nna Michelle\n 	Amira\n 	Anala\n 	Angelina\n 	Nicole Maria\n\n\n
ATTACH;FMTTYPE=image/jpeg:https://www.arabamerica.com/wp-content/uploads/2
 026/01/Screenshot-2026-01-06-at-11.49.29-AM.png
LOCATION:El Morocco Restaurant\, 2203 Morello Avenue \, Pleasant Hill\, CA\
 , 94523\, United States
GEO:37.961954;-122.079572
X-APPLE-STRUCTURED-LOCATION;VALUE=URI;X-ADDRESS=2203 Morello Avenue \, Plea
 sant Hill\, CA\, 94523\, United States;X-APPLE-RADIUS=100;X-TITLE=El Moroc
 co Restaurant:geo:37.961954,-122.079572
END:VEVENT
BEGIN:VTIMEZONE
TZID:America/Los_Angeles
X-LIC-LOCATION:America/Los_Angeles
BEGIN:STANDARD
DTSTART:20251102T010000
TZOFFSETFROM:-0700
TZOFFSETTO:-0800
TZNAME:PST
END:STANDARD
END:VTIMEZONE
END:VCALENDAR