BEGIN:VCALENDAR
VERSION:2.0
PRODID:-//wp-events-plugin.com//7.2.3.1//EN
TZID:America/Detroit
X-WR-TIMEZONE:America/Detroit
BEGIN:VEVENT
UID:35322@arabamerica.com
DTSTART;TZID=America/Detroit:20251204T190000
DTEND;TZID=America/Detroit:20251204T210000
DTSTAMP:20251028T222122Z
URL:https://www.arabamerica.com/events/dance-to-freedom-in-honor-of-fred-h
 ampton-in-solidarity-with-palestine/
SUMMARY:Dance to Freedom: In honor of Fred Hampton in Solidarity with Pales
 tine
DESCRIPTION:Come dance with us as we celebrate the legacy of Fred Hampton a
 nd show our solidarity with Palestine in a night filled with music\, movem
 ent\,\nDance to Freedom: In honor of Fred Hampton in Solidarity with Pales
 tine
ATTACH;FMTTYPE=image/jpeg:https://www.arabamerica.com/wp-content/uploads/2
 025/10/https___cdn.evbuc_.com_images_1144685553_2248137075563_1_original.j
 pg
CATEGORIES:Dance,Dancing,Music,New York,Palestinian liberation
LOCATION:Union Square Park\, 201 Park Ave S\, New York City\, New York\, 10
 007\, United States
GEO:40.7365831;-73.9886194
X-APPLE-STRUCTURED-LOCATION;VALUE=URI;X-ADDRESS=201 Park Ave S\, New York C
 ity\, New York\, 10007\, United States;X-APPLE-RADIUS=100;X-TITLE=Union Sq
 uare Park:geo:40.7365831,-73.9886194
END:VEVENT
BEGIN:VTIMEZONE
TZID:America/Detroit
X-LIC-LOCATION:America/Detroit
BEGIN:STANDARD
DTSTART:20251102T010000
TZOFFSETFROM:-0400
TZOFFSETTO:-0500
TZNAME:EST
END:STANDARD
END:VTIMEZONE
END:VCALENDAR