BEGIN:VCALENDAR
VERSION:2.0
PRODID:-//wp-events-plugin.com//7.2.3.1//EN
TZID:America/Detroit
X-WR-TIMEZONE:America/Detroit
BEGIN:VEVENT
UID:32206@arabamerica.com
DTSTART;TZID=America/Detroit:20240210T143000
DTEND;TZID=America/Detroit:20240210T160000
DTSTAMP:20240206T040412Z
URL:https://www.arabamerica.com/events/dance-workshop-fundraiser-for-gaza-
 2/
SUMMARY:Dance Workshop Fundraiser for Gaza
DESCRIPTION:\nAbout this event\n\nHybrid workshop event to support dance th
 erapy for children in Gaza.\n\n\n\n\n\n\n\nDance Workshop Fundraiser for G
 aza\n\nJoin us online or in-person on Saturday\, February 10th for a day
  of dance workshops to raise funds for children in Gaza. Workshops include
  Arabic folk dance\, Dabke fusion\, Mahragant\, and Datura Style. We'll wr
 ap things up with a hafla where all attendees are welcome to invite friend
 s and share their dance.100% of the funds raised will be donated to Camps
  Breakerz Crew\, a Gaza-based dance team that is currently visiting shelt
 ers to facilitate dance therapy for displaced children.\n\n\n&nbsp\;\n\n\n
 \n\n
ATTACH;FMTTYPE=image/jpeg:https://www.arabamerica.com/wp-content/uploads/2
 024/02/Screen-Shot-2024-02-05-at-11.03.08-PM.png
LOCATION:Basma Dance & Fitness\, 4274 South Chambers Road\, Aurora\, Colora
 do\, 80014\, United States
GEO:39.639233;-104.809576
X-APPLE-STRUCTURED-LOCATION;VALUE=URI;X-ADDRESS=4274 South Chambers Road\, 
 Aurora\, Colorado\, 80014\, United States;X-APPLE-RADIUS=100;X-TITLE=Basma
  Dance & Fitness:geo:39.639233,-104.809576
END:VEVENT
BEGIN:VTIMEZONE
TZID:America/Detroit
X-LIC-LOCATION:America/Detroit
BEGIN:STANDARD
DTSTART:20231105T010000
TZOFFSETFROM:-0400
TZOFFSETTO:-0500
TZNAME:EST
END:STANDARD
END:VTIMEZONE
END:VCALENDAR