BEGIN:VCALENDAR
VERSION:2.0
PRODID:-//wp-events-plugin.com//7.2.3.1//EN
TZID:America/Detroit
X-WR-TIMEZONE:America/Detroit
BEGIN:VEVENT
UID:35329@arabamerica.com
DTSTART;TZID=America/Detroit:20251106T180000
DTEND;TZID=America/Detroit:20251106T230000
DTSTAMP:20251029T001053Z
URL:https://www.arabamerica.com/events/dar-lkbira-2nd-edition/
SUMMARY:Dar L'Kbira- 2nd Edition
DESCRIPTION:\n\nOverview\n\n\n\n\n\nExperience Moroccan culture and the Gre
 en March’s history at our networking gala with dinner\, music\, and comm
 unity.\n\n\n\n\nJoin us for an elegant evening celebrating Moroccan cultu
 re\, unity\, and the 50th anniversary of the Green March. Hosted by the M
 oroccan Student Society at the University of Central Florida\, this event 
 brings together students and professionals for a night of networking\, d
 inner\, and cultural appreciation.\n\nThe event will feature a networking
  segment\, giving professionals the opportunity to share experiences and c
 onnect with students\, followed by a cultural celebration with food\, pe
 rformances\, and music that highlight Morocco’s rich heritage.\n\n&#x272
 8\; Dress code: Cultural clothing\n&#x1f4cd\; Location: Pegasus Ballro
 om\, University of Central Florida\n&#x1f560\; Date &amp\; Time: Thursda
 y\, November 6\, 2025 | 6:00 PM\n&#x1f698\; Parking: Closest garage is H
  and is free for students with permits.\n\nWe look forward to celebrating 
 this special occasion with you!\n\n\n\n\n\n
LOCATION:Pegasus Grand Ballroom\, 1 Central Florida Boulevard\, Orlando\, F
 L\, 32816\, United States
GEO:28.602194;-81.201018
X-APPLE-STRUCTURED-LOCATION;VALUE=URI;X-ADDRESS=1 Central Florida Boulevard
 \, Orlando\, FL\, 32816\, United States;X-APPLE-RADIUS=100;X-TITLE=Pegasus
  Grand Ballroom:geo:28.602194,-81.201018
END:VEVENT
BEGIN:VTIMEZONE
TZID:America/Detroit
X-LIC-LOCATION:America/Detroit
BEGIN:STANDARD
DTSTART:20251102T010000
TZOFFSETFROM:-0400
TZOFFSETTO:-0500
TZNAME:EST
END:STANDARD
END:VTIMEZONE
END:VCALENDAR