BEGIN:VCALENDAR
VERSION:2.0
PRODID:-//wp-events-plugin.com//7.2.3.1//EN
TZID:America/Detroit
X-WR-TIMEZONE:America/Detroit
BEGIN:VEVENT
UID:33612@arabamerica.com
DTSTART;TZID=America/Detroit:20241025T180000
DTEND;TZID=America/Detroit:20241025T200000
DTSTAMP:20241002T042306Z
URL:https://www.arabamerica.com/events/date-night-an-evening-in-jamaica-85
 -per-person-cincinnati-location/
SUMMARY:Date night An Evening in Jamaica $85 per person (Cincinnati Locatio
 n)
DESCRIPTION:Cincinnati\, OH\n\nIn this class we take you to Jamaica by teac
 hing you how to make Rasta Pasta and Jerk salmon or shrimps. This is such 
 a fun class! Go ahead and sign up!\n\n 	Rasta Pasta\n\n 	A Jamaican pasta 
 dish similar to Alfredo! It is absolutely delicious.\n\n\n 	Jerk Shrimp\n\
 n 	Shrimp seasoned with Jerk seasoning. Not only is it Aromatic but it is 
 delicious. Get our Jerk seasoning from our shop tab.\n\n\n 	Fried Ripe Pla
 ntain\n\n 	Plantain that is shallow fried in a pan. It is delicious and a 
 great way of adding sweetness to the savory meal.\n\n\n 	Sautéed Calaloo\
 n\n 	 Known as Jamaican spinach sautéed with assorted bell peppers\, spi
 ces and other herbs.\n\n\n 	Dessert\n\nWe can accommodate dietary restrict
 ions. Email and let us know about your dietary restrictions.\nLocation:\nF
 indlay’s Kitchen 1719 Elm street\, Cincinnati OH\, 45202\nTime zone: Eas
 tern time!\nOctober 25 @ 6:00 pm - 8:00 pmteaching
ATTACH;FMTTYPE=image/jpeg:https://www.arabamerica.com/wp-content/uploads/2
 024/10/IMG-7332.jpeg
LOCATION:Findlay Kitchen\, 1719 Elm St\, Cincinnati\, Ohio\, 45202\, United
  States
GEO:39.114415;-84.519966
X-APPLE-STRUCTURED-LOCATION;VALUE=URI;X-ADDRESS=1719 Elm St\, Cincinnati\, 
 Ohio\, 45202\, United States;X-APPLE-RADIUS=100;X-TITLE=Findlay Kitchen:ge
 o:39.114415,-84.519966
END:VEVENT
BEGIN:VTIMEZONE
TZID:America/Detroit
X-LIC-LOCATION:America/Detroit
BEGIN:DAYLIGHT
DTSTART:20240310T030000
TZOFFSETFROM:-0500
TZOFFSETTO:-0400
TZNAME:EDT
END:DAYLIGHT
END:VTIMEZONE
END:VCALENDAR