BEGIN:VCALENDAR
VERSION:2.0
PRODID:-//wp-events-plugin.com//7.2.3.1//EN
TZID:America/Detroit
X-WR-TIMEZONE:America/Detroit
BEGIN:VEVENT
UID:34558@arabamerica.com
DTSTART;TZID=America/Detroit:20250813T180000
DTEND;TZID=America/Detroit:20250813T200000
DTSTAMP:20250610T212203Z
URL:https://www.arabamerica.com/events/date-night-moroccan-magic-4/
SUMMARY:DATE NIGHT: Moroccan Magic
DESCRIPTION:\n\nJoin us for a romantic evening under the stars\, filled wit
 h Moroccan-inspired magic\, delicious food\, and enchanting music.\n\n\n\n
 \n\n\n\n\n\n\n\n\n\n\n\n\n\n\nCome join us for a magical evening at Grata 
 Diner! Treat your taste buds to a flavorful journey through the vibrant cu
 isine of Morocco. Indulge in exotic dishes\, tantalizing spices\, and deli
 ghtful desserts. Our cozy atmosphere is perfect for a romantic night out w
 ith your special someone. Don't miss out on this unique dining experience 
 that will transport you to the heart of Marrakech. Book your table now for
  a night of Moroccan Magic!\n\n\n\n\n\n\n\n\n\n\n\n\n\n\n\n\n\n\n\n\n
ATTACH;FMTTYPE=image/jpeg:https://www.arabamerica.com/wp-content/uploads/2
 025/06/Screenshot-2025-06-11-at-12.18.18 AM.png
LOCATION:Grata Diner\, 200 North Greensboro Street #Suite B12\, Carrboro\, 
 NC\, United States
GEO:35.91168;-79.07075
X-APPLE-STRUCTURED-LOCATION;VALUE=URI;X-ADDRESS=200 North Greensboro Street
  #Suite B12\, Carrboro\, NC\, United States;X-APPLE-RADIUS=100;X-TITLE=Gra
 ta Diner:geo:35.91168,-79.07075
END:VEVENT
BEGIN:VTIMEZONE
TZID:America/Detroit
X-LIC-LOCATION:America/Detroit
BEGIN:DAYLIGHT
DTSTART:20250309T030000
TZOFFSETFROM:-0500
TZOFFSETTO:-0400
TZNAME:EDT
END:DAYLIGHT
END:VTIMEZONE
END:VCALENDAR