BEGIN:VCALENDAR
VERSION:2.0
PRODID:-//wp-events-plugin.com//7.2.3.1//EN
TZID:America/Detroit
X-WR-TIMEZONE:America/Detroit
BEGIN:VEVENT
UID:32264@arabamerica.com
DTSTART;TZID=America/Detroit:20240225T170000
DTEND;TZID=America/Detroit:20240225T210000
DTSTAMP:20240219T183653Z
URL:https://www.arabamerica.com/events/day-in-the-life-palestinian-edition
 /
SUMMARY:Day In The Life: Palestinian Edition
DESCRIPTION:[caption id="attachment_245144" align="alignnone" width="300"] 
 Day In The Life: Palestinian Edition's Promotional Image.[/caption]\n\n&nb
 sp\;\n\nSEATTLE\, WASHINGTON\n\nDay In The Life: Palestinian Edition\n\nJo
 in us for an educational journey into the vibrant culture and traditions o
 f Palestine at Day In The Life: Palestinian Edition. This in-person event 
 will take place on Sun Feb 25\, 2024 at Washington Hall.\n\nExperience a C
 ommunity Gathering filled with authentic Palestinian cuisine\, traditional
  dances\, and captivating storytelling. Immerse yourself in the rich herit
 age of Palestine as we showcase its art\, history\, and the warmth of its 
 people. From the bustling markets to the serene landscapes\, we will take 
 you on a virtual tour that will leave you inspired and enlightened.\n\nDis
 cover the intricacies of Palestinian embroidery\, try your hand at traditi
 onal crafts\, and engage in lively discussions about the Palestinian exper
 ience. This event aims to foster cultural exchange and create an inclusive
  space where everyone can appreciate and celebrate the beauty of Palestini
 an lives.\n\nWhether you are a long-time supporter of Palestinian culture 
 or someone curious to learn more\, Day In The Life: Palestinian Edition pr
 omises to be an unforgettable experience. Don't miss this opportunity to c
 onnect with the Palestinian community and gain a deeper understanding of t
 heir way of life.\n\nMark your calendars and get ready to embark on a rema
 rkable journey with us. We can't wait to welcome you to Day In The Life: P
 alestinian Edition!
ATTACH;FMTTYPE=image/jpeg:https://www.arabamerica.com/wp-content/uploads/2
 024/02/Promotional-Image-Day-In-The-Life-Palestinian-Edition.png
END:VEVENT
BEGIN:VTIMEZONE
TZID:America/Detroit
X-LIC-LOCATION:America/Detroit
BEGIN:STANDARD
DTSTART:20231105T010000
TZOFFSETFROM:-0400
TZOFFSETTO:-0500
TZNAME:EST
END:STANDARD
END:VTIMEZONE
END:VCALENDAR