BEGIN:VCALENDAR
VERSION:2.0
PRODID:-//wp-events-plugin.com//7.2.3.1//EN
TZID:America/Detroit
X-WR-TIMEZONE:America/Detroit
BEGIN:VEVENT
UID:34500@arabamerica.com
DTSTART;TZID=America/Detroit:20250605T183000
DTEND;TZID=America/Detroit:20250605T183000
DTSTAMP:20250602T201917Z
URL:https://www.arabamerica.com/events/day-of-arafah-iftar-at-dic/
SUMMARY:Day of Arafah Iftar at DIC
DESCRIPTION:CHICAGO\, IL\n\nDay of Arafah Iftar at DIC\n\nLet's come togeth
 er as a community to fast for the Day of Arafah on Thursday June 5th with 
 a Reflection from Chaplain Abdul-Malik Ryan\n\nLocation: Downtown Islamic 
 Center\n\n\n\n 	ALL AGES\n\n\n\n\n\nJoin us in fasting on the Day of Arafa
 h and break you fast in community with special guest Chaplain Abdul-Malik 
 Ryan (Abu Noor)\n\n\n
ATTACH;FMTTYPE=image/jpeg:https://www.arabamerica.com/wp-content/uploads/2
 025/06/Screenshot-2025-06-02-at-4.20.08 PM.png
LOCATION:Downtown Islamic Center\, 231 South State Street\, Chicago\, Illin
 ois \, United States
GEO:41.878692;-87.62734929999999
X-APPLE-STRUCTURED-LOCATION;VALUE=URI;X-ADDRESS=231 South State Street\, Ch
 icago\, Illinois \, United States;X-APPLE-RADIUS=100;X-TITLE=Downtown Isla
 mic Center:geo:41.878692,-87.62734929999999
END:VEVENT
BEGIN:VTIMEZONE
TZID:America/Detroit
X-LIC-LOCATION:America/Detroit
BEGIN:DAYLIGHT
DTSTART:20250309T030000
TZOFFSETFROM:-0500
TZOFFSETTO:-0400
TZNAME:EDT
END:DAYLIGHT
END:VTIMEZONE
END:VCALENDAR