BEGIN:VCALENDAR
VERSION:2.0
PRODID:-//wp-events-plugin.com//7.2.3.1//EN
TZID:America/Detroit
X-WR-TIMEZONE:America/Detroit
BEGIN:VEVENT
UID:36103@arabamerica.com
DTSTART;TZID=America/Detroit:20260509T140000
DTEND;TZID=America/Detroit:20260510T210000
DTSTAMP:20260331T145818Z
URL:https://www.arabamerica.com/events/dc-arab-american-culture-festival-2
 026-2/
SUMMARY:DC ARAB AMERICAN CULTURE FESTIVAL 2026
DESCRIPTION:WASHINGTON\, DC\n\n&nbsp\;\n\nThe 4th Annual DC Arab American C
 ulture Festival is coming to you Saturday\, May 9th 2026 from 2:00 pm 
 - 9:00pm\, promising cultural immersion with live Arabic music\, singing\,
  dabke dancing and community engagement.\n\nAlongside the soothing\, as we
 ll as celebratory music and performances\, there will be the bustle of a b
 azaar in your backyard\, with enticing vendors and delicious food - savor
 y and sweet!\n\nHosted by DC natives Quartertonez Music and its Foundati
 on (a school offering a rare find - Arabic music lessons) and featuring M
 alikat Al Dabke (the first all-women’s dabke dance troupe in the area)\
 , this festival has become a community tradition boasting a vibrant\, warm
  and joy-filled celebration of Arab heritage and unity.\n\nThe event featu
 res an eclectic mix of local artisans selling authentic products from Moro
 cco to Palestine\, artist collectives\, cultural entertainment\, non-profi
 t organizations and community leaders. Don’t miss this opportunity to ex
 plore and enjoy the diversity of our culture within a local context!\n\nTi
 cket prices are $35\, and proceeds will go to continued efforts to support
  Quartertonez Foundation\, the Arabic Institute and the Adult Arab Choir S
 ada Al Thawra.\n\nhttps://www.eventbrite.com/e/dc-arab-american-culture-fe
 stival-2026-tickets-1984845042954?aff=ebdssbdestsearch
ATTACH;FMTTYPE=image/jpeg:https://www.arabamerica.com/wp-content/uploads/2
 026/03/image-5-1.webp
LOCATION:The Dew Drop Inn\, 2801 8th Street Northeast\, Washington \, DC\, 
 United States
GEO:38.925918;-76.994751
X-APPLE-STRUCTURED-LOCATION;VALUE=URI;X-ADDRESS=2801 8th Street Northeast\,
  Washington \, DC\, United States;X-APPLE-RADIUS=100;X-TITLE=The Dew Drop 
 Inn:geo:38.925918,-76.994751
END:VEVENT
BEGIN:VTIMEZONE
TZID:America/Detroit
X-LIC-LOCATION:America/Detroit
BEGIN:DAYLIGHT
DTSTART:20260308T030000
TZOFFSETFROM:-0500
TZOFFSETTO:-0400
TZNAME:EDT
END:DAYLIGHT
END:VTIMEZONE
END:VCALENDAR