BEGIN:VCALENDAR
VERSION:2.0
PRODID:-//wp-events-plugin.com//7.2.3.1//EN
TZID:America/Detroit
X-WR-TIMEZONE:America/Detroit
BEGIN:VEVENT
UID:36241@arabamerica.com
DTSTART;TZID=America/Detroit:20260425T000000
DTEND;TZID=America/Detroit:20260425T000000
DTSTAMP:20260422T132641Z
URL:https://www.arabamerica.com/events/dc-bookstore-crawl/
SUMMARY:DC Bookstore Crawl
DESCRIPTION:PARTICIPATING BOOKSTORES!\n\n\n10425 Fawcett St Kensington MD\n
 \n\n\n\n\n1524 U St NW Floor 1\, Washington\, DC 20009\, 7939 Norfolk Ave\
 , Bethesda MD\n\n\n\n\n\n716 Monroe St NE Studio #11 Washington DC 20017\n
 \n\n\n\n\n3064 Mt Pleasant St NW\, Washington\, DC 20009\n\n\n\n\n\n3758 H
 oward Ave Kensington MD\n\n\n\n\n\n2814 Pennsylvania Avenue NW\, Washingto
 n\, DC 20007\n\n\n\n\n\n2021 14th St NW\, Washington\, DC 20009 450 K St N
 W\, Washington\, DC 20001 235 Carroll St NW\, Washington\, DC 20012\n\n\n\
 n\n\n657 C St SE\, Washington\, DC 20003\n\n\n\n\n\n5536 Connecticut Ave N
 W\, Washington\, DC 20015\n\n\n\n\n\n645 Pennsylvania Ave. SE #100\, Washi
 ngton\, DC 20003\n\n\n\n\n\n2010 P St NW\, Washington\, DC 20036\n\n\n\n\n
 \n1509 Connecticut Ave NW\, Washington\, DC 20036\n\n\n\n\n\n3786 Howard A
 ve\, Kensington MD 20895\n\n\n\n\n\n1517 Connecticut Ave NW\, Washington\,
  DC 20036\n\n\n\n\n\n6919 Laurel Ave Takoma Park MD\n\n\n\n\n\n737 8th St 
 SE\, Washington\, DC 20003\n\n\n\n\n\n2467 18th St NW\, Washington\, DC 20
 009\n\n\n\n\n\n4203 9th St NW\, Washington\, DC 20011\n\n\n\n\n\n121 Ameri
 can Way\, Oxon Hill\, MD 20745\n\n\n\n\n\n1902 18th St NW\, Washington DC\
 , 20009\n\n\n\n\n\n1110 Oak Drive SE Washington\, DC 20032\n\n\n\n\n\n7014
  Westmoreland Ave Suite A\, Takoma Park\, MD 20912\n\n\n\n\n\n5015 Connect
 icut Ave NW\, Washington\, DC 20008 610 Water St SW\, Washington\, DC 2002
 4 1324 4th St NE\, Washington\, DC 20002\n\n\n\n\n\n2714 Georgia Ave NW\, 
 Washington\, DC 20001\n\n\n\n\n\n2000 P St NW\, Washington\, DC 20036\n\n\
 n\n\n\n600F H St NE\, Washington\, DC 20002 1809 14th St NW\, Washington\,
  DC 20009\n\n\n\n\n\n3241 P St NW\, Washington\, DC 20007\n\n\n\n\n\n7920 
 Norfolk Ave\, Bethesda\, MD 20814\n\n\n
ATTACH;FMTTYPE=image/jpeg:https://www.arabamerica.com/wp-content/uploads/2
 026/04/DCBookstoreCrawlEventHeader.webp
CATEGORIES:Community,culture
END:VEVENT
BEGIN:VTIMEZONE
TZID:America/Detroit
X-LIC-LOCATION:America/Detroit
BEGIN:DAYLIGHT
DTSTART:20260308T030000
TZOFFSETFROM:-0500
TZOFFSETTO:-0400
TZNAME:EDT
END:DAYLIGHT
END:VTIMEZONE
END:VCALENDAR