BEGIN:VCALENDAR
VERSION:2.0
PRODID:-//wp-events-plugin.com//7.2.3.1//EN
TZID:America/Detroit
X-WR-TIMEZONE:America/Detroit
BEGIN:VEVENT
UID:36205@arabamerica.com
DTSTART;TZID=America/Detroit:20260507T190000
DTEND;TZID=America/Detroit:20260507T203000
DTSTAMP:20260420T182727Z
URL:https://www.arabamerica.com/events/de-healthification-israels-engineer
 ed-collapse-of-palestinian-life/
SUMMARY:De-Healthification: Israel’s Engineered Collapse of Palestinian L
 ife
DESCRIPTION:WASHINGTON\, DC\n\n&nbsp\;\n\nA public lecture on the historica
 l destruction of healthcare in Palestine\, from occupation and blockade to
  the present assault on Gaza.\n\nhttps://www.eventbrite.com/e/de-healthifi
 cation-israels-engineered-collapse-of-palestinian-life-tickets-19870590160
 07?aff=ebdssbdestsearch
ATTACH;FMTTYPE=image/jpeg:https://www.arabamerica.com/wp-content/uploads/2
 026/04/image-24.webp
LOCATION:The Jerusalem Fund\, 2425 Virginia Ave NW\, Washington\, DC\, Unit
 ed States
GEO:38.8988618;-77.0525414
X-APPLE-STRUCTURED-LOCATION;VALUE=URI;X-ADDRESS=2425 Virginia Ave NW\, Wash
 ington\, DC\, United States;X-APPLE-RADIUS=100;X-TITLE=The Jerusalem Fund:
 geo:38.8988618,-77.0525414
END:VEVENT
BEGIN:VTIMEZONE
TZID:America/Detroit
X-LIC-LOCATION:America/Detroit
BEGIN:DAYLIGHT
DTSTART:20260308T030000
TZOFFSETFROM:-0500
TZOFFSETTO:-0400
TZNAME:EDT
END:DAYLIGHT
END:VTIMEZONE
END:VCALENDAR