BEGIN:VCALENDAR
VERSION:2.0
PRODID:-//wp-events-plugin.com//7.2.3.1//EN
TZID:America/Detroit
X-WR-TIMEZONE:America/Detroit
BEGIN:VEVENT
UID:34770@arabamerica.com
DTSTART;TZID=America/Detroit:20250830T090000
DTEND;TZID=America/Detroit:20250831T220000
DTSTAMP:20250715T053734Z
URL:https://www.arabamerica.com/events/deaf-muslim-expo-2025/
SUMMARY:Deaf Muslim Expo 2025
DESCRIPTION:DALLAS\, TX\n\n&nbsp\;\n\n\nDeaf Muslim Expo (DME) aims to crea
 te network opportunities and entertainment for the Deaf Muslims.\n\n\n\n\n
 \n\n\n\n\n\nQ: What is your refund policy?\n\n\n\n\nA: Refunds are availab
 le up to 30 days before the event. After that\, we are unable to process a
 ny refunds. Note: Eventbrite’s processing fee is nonrefundable and will 
 be excluded from the refund amount.\n\n\n\n\n\n\n\n
ATTACH;FMTTYPE=image/jpeg:https://www.arabamerica.com/wp-content/uploads/2
 025/07/deaf_muslim_expo.jpg
LOCATION:Aloft Dallas Love Field\, 2333 West Mockingbird Lane\, Dallas\, TX
 \, 75235\, United States
GEO:32.826542;-96.847814
X-APPLE-STRUCTURED-LOCATION;VALUE=URI;X-ADDRESS=2333 West Mockingbird Lane\
 , Dallas\, TX\, 75235\, United States;X-APPLE-RADIUS=100;X-TITLE=Aloft Dal
 las Love Field:geo:32.826542,-96.847814
END:VEVENT
BEGIN:VTIMEZONE
TZID:America/Detroit
X-LIC-LOCATION:America/Detroit
BEGIN:DAYLIGHT
DTSTART:20250309T030000
TZOFFSETFROM:-0500
TZOFFSETTO:-0400
TZNAME:EDT
END:DAYLIGHT
END:VTIMEZONE
END:VCALENDAR