BEGIN:VCALENDAR
VERSION:2.0
PRODID:-//wp-events-plugin.com//7.2.3.1//EN
TZID:America/Detroit
X-WR-TIMEZONE:America/Detroit
BEGIN:VEVENT
UID:31238@arabamerica.com
DTSTART;TZID=America/Detroit:20230630T000000
DTEND;TZID=America/Detroit:20230630T000000
DTSTAMP:20230612T162416Z
URL:https://www.arabamerica.com/events/dear-cairo-my-dear-cairo-photograph
 y-exhibit/
SUMMARY:Dear Cairo...My Dear Cairo: Photography Exhibit
DESCRIPTION:Dear Cairo...my dear Cairo is a photo exhibition of photos take
 n in Cairo by Egyptian/American artist and children's book author Zeena M.
  Pliska. The exhibition is presented in conjunction with the release of he
 r latest picture book\, Egyptian Lullaby. It is the hope of the artist/aut
 hor that both the photo exhibit of modern Cairo and Egyptian Lullaby will 
 normalize Arab culture for those who are unfamiliar and will celebrate Ara
 b culture with those who are familiar. The exhibit is located in the entra
 nce lobby of the Venice Library. Save the Date: Zeena Pliska will have a b
 ook reading of Egyptian Lullaby at the Venice Library on June 10 at 11 a.m
 .
ATTACH;FMTTYPE=image/jpeg:https://www.arabamerica.com/wp-content/uploads/2
 023/06/cairo-exhibit.png
CATEGORIES:Arab Author,Arts and Crafts,Cairo,Egyptian,Photography
LOCATION:Abbot Kinney Memorial Branch Library\, 501 S. Venice Boulevard\, V
 enice \, CA\, 90291\, United States
GEO:33.987538;-118.465365
X-APPLE-STRUCTURED-LOCATION;VALUE=URI;X-ADDRESS=501 S. Venice Boulevard\, V
 enice \, CA\, 90291\, United States;X-APPLE-RADIUS=100;X-TITLE=Abbot Kinne
 y Memorial Branch Library:geo:33.987538,-118.465365
END:VEVENT
BEGIN:VTIMEZONE
TZID:America/Detroit
X-LIC-LOCATION:America/Detroit
BEGIN:DAYLIGHT
DTSTART:20230312T030000
TZOFFSETFROM:-0500
TZOFFSETTO:-0400
TZNAME:EDT
END:DAYLIGHT
END:VTIMEZONE
END:VCALENDAR