BEGIN:VCALENDAR
VERSION:2.0
PRODID:-//wp-events-plugin.com//7.2.3.1//EN
TZID:America/Detroit
X-WR-TIMEZONE:America/Detroit
BEGIN:VEVENT
UID:31507@arabamerica.com
DTSTART;TZID=America/Detroit:20230816T190000
DTEND;TZID=America/Detroit:20230816T203000
DTSTAMP:20230807T021003Z
URL:https://www.arabamerica.com/events/decolonization-of-minds-and-nature-
 in-palestine-and-globally/
SUMMARY:Decolonization of Minds and Nature in Palestine and Globally
DESCRIPTION:Our planet is suffering from human-induced climate change\, ove
 rexploitation\, habitat destruction\, pollution\, wars\, colonialism\, and
  other effects. These cause massive destabilization and suffering that imp
 act all living forms including us humans. Sustainable human and natural co
 mmunities are achievable and dependent on offering nature-based solutions.
  Further\, we note that environmental and climate injustice can be challen
 ged by mobilizing people. Increasingly popular resistance helps address ch
 allenges ranging from climate change to economic inequality to racism/colo
 nialism. Dr. Qumsiyeh will discuss examples of challenges and solutions al
 ong the road to sustainability with a focus on Palestine.
ATTACH;FMTTYPE=image/jpeg:https://www.arabamerica.com/wp-content/uploads/2
 023/08/Unknown.jpg
CATEGORIES:Lecture
LOCATION:Unitarian Universalist Church\, 4444 Arlington Blvd\, Arlington\, 
 VA\, 22204\, United States
GEO:38.868256;-77.107678
X-APPLE-STRUCTURED-LOCATION;VALUE=URI;X-ADDRESS=4444 Arlington Blvd\, Arlin
 gton\, VA\, 22204\, United States;X-APPLE-RADIUS=100;X-TITLE=Unitarian Uni
 versalist Church:geo:38.868256,-77.107678
END:VEVENT
BEGIN:VTIMEZONE
TZID:America/Detroit
X-LIC-LOCATION:America/Detroit
BEGIN:DAYLIGHT
DTSTART:20230312T030000
TZOFFSETFROM:-0500
TZOFFSETTO:-0400
TZNAME:EDT
END:DAYLIGHT
END:VTIMEZONE
END:VCALENDAR