BEGIN:VCALENDAR
VERSION:2.0
PRODID:-//wp-events-plugin.com//7.2.3.1//EN
TZID:America/Detroit
X-WR-TIMEZONE:America/Detroit
BEGIN:VEVENT
UID:34897@arabamerica.com
DTSTART;TZID=America/Detroit:20251005T153000
DTEND;TZID=America/Detroit:20251005T170000
DTSTAMP:20250804T201011Z
URL:https://www.arabamerica.com/events/deeper-dive-wines-of-lebanon/
SUMMARY:Deeper Dive: Wines of Lebanon
DESCRIPTION:DETROIT\, MI\n\n\n\nLebanon’s wines are a powerful blend of h
 istory\, resilience\, and innovation. Back by popular demand\, this class 
 returns to the Bekaa Valley and beyond to explore producers balancing anci
 ent traditions with a fresh\, sustainable approach. We’ll taste both bol
 d classics and boundary-pushing bottlings that reveal why Lebanon continue
 s to captivate adventurous drinkers.\n\n&nbsp\;\n\nThis class is an opport
 unity to experience the joy of incredible wines in an interactive class on
  the beautiful mezzanine of The Royce Detroit.\n\n&nbsp\;\n\nTicket Price 
 Includes:\n\n 	Flight of six carefully curated wines\n 	Expert professiona
 l instruction\n 	Gratuity for our hard-working\, tips-based bartending tea
 m\n 	Ticket prices are now inclusive of Eventbrite fees\n\n&nbsp\;\n\nNote
 : We respectfully ask that if you have been ill or have been exposed to so
 meone with a viral illness that you abstain from group events. Please reac
 h out with questions: wine@theroycedetroit.com.\n\n&nbsp\;\n\nREFUND POLIC
 Y\n\nThe Royce will offer a full refund (excluding Eventbrite fees) up to 
 seven days or more in advance of the class date. No other exceptions will 
 be made for refund requests. Tickets can be transferred. When you register
  for a class\, you agree to these terms. Please reach out to wine@theroyce
 detroit.com for transfer requests and additional questions.\n\n&nbsp\;\n\n
 CANCELLATION POLICY\n\nThe Royce reserves the right to cancel an event in 
 the event of a catastrophe or should reservations remain below the cost ne
 cessary to host the event. When you register for a class\, you agree to th
 ese terms. The Royce commits to notify attendees ASAP and refund the full 
 ticket price to the original payment method through Eventbrite.\n\nMust be
  21+ to consume alcohol and to attend this class. Please drink responsibly
 .
ATTACH;FMTTYPE=image/jpeg:https://www.arabamerica.com/wp-content/uploads/2
 025/08/roy.jpeg
LOCATION:The Royce Detroit\, 76 West Adams Avenue\, Detroit\, MI\, 48226\, 
 United States
GEO:42.336626;-83.052404
X-APPLE-STRUCTURED-LOCATION;VALUE=URI;X-ADDRESS=76 West Adams Avenue\, Detr
 oit\, MI\, 48226\, United States;X-APPLE-RADIUS=100;X-TITLE=The Royce Detr
 oit:geo:42.336626,-83.052404
END:VEVENT
BEGIN:VTIMEZONE
TZID:America/Detroit
X-LIC-LOCATION:America/Detroit
BEGIN:DAYLIGHT
DTSTART:20250309T030000
TZOFFSETFROM:-0500
TZOFFSETTO:-0400
TZNAME:EDT
END:DAYLIGHT
END:VTIMEZONE
END:VCALENDAR