BEGIN:VCALENDAR
VERSION:2.0
PRODID:-//wp-events-plugin.com//7.2.3.1//EN
TZID:America/Detroit
X-WR-TIMEZONE:America/Detroit
BEGIN:VEVENT
UID:32203@arabamerica.com
DTSTART;TZID=America/Detroit:20240216T200000
DTEND;TZID=America/Detroit:20240216T220000
DTSTAMP:20240206T035441Z
URL:https://www.arabamerica.com/events/detour-coffee-presents-comedy-for-t
 he-cause-with-zaid-fouzi/
SUMMARY:Detour Coffee presents: Comedy for the Cause with Zaid Fouzi
DESCRIPTION:\nAbout this event\n\nA night of standup comedy\, laughter\, an
 d love as proceeds from the show will be going to the PCRF.\n\n\n\n\n\n\n\
 nJoin us for an evening of laughter and good vibes at Comedy for the Caus
 e at Detour Coffee Co.! Get ready to enjoy an unforgettable night on Fri\
 , Feb 16\, 2024.\n\nLocated at Detour Coffee\, this event features some o
 f DC's funniest comedians as well as a special appearance from Chicago
 -based comedian\, Zaid Fouzi.\n\nWith proceeds going to the Palestine C
 hildren's Relief Fund\; this is your chance to enjoy some jokes and make a
  difference!\n\nDoors open at 8pm with the show starting at 8:30pm. The
 re is a 1 item minimum per person.\n\n\n\n\n\n
ATTACH;FMTTYPE=image/jpeg:https://www.arabamerica.com/wp-content/uploads/2
 024/02/Screen-Shot-2024-02-05-at-10.53.21-PM.png
LOCATION:Detour Coffee\, 946 North Jackson Street\, Arlington\, VA\, 22201\
 , United States
GEO:38.884055;-77.099636
X-APPLE-STRUCTURED-LOCATION;VALUE=URI;X-ADDRESS=946 North Jackson Street\, 
 Arlington\, VA\, 22201\, United States;X-APPLE-RADIUS=100;X-TITLE=Detour C
 offee:geo:38.884055,-77.099636
END:VEVENT
BEGIN:VTIMEZONE
TZID:America/Detroit
X-LIC-LOCATION:America/Detroit
BEGIN:STANDARD
DTSTART:20231105T010000
TZOFFSETFROM:-0400
TZOFFSETTO:-0500
TZNAME:EST
END:STANDARD
END:VTIMEZONE
END:VCALENDAR