BEGIN:VCALENDAR
VERSION:2.0
PRODID:-//wp-events-plugin.com//7.2.3.1//EN
TZID:America/Detroit
X-WR-TIMEZONE:America/Detroit
BEGIN:VEVENT
UID:35879@arabamerica.com
DTSTART;TZID=America/Detroit:20260411T140000
DTEND;TZID=America/Detroit:20260411T150000
DTSTAMP:20260217T180428Z
URL:https://www.arabamerica.com/events/detroit-institute-of-arts-presents-
 artist-talk-by-master-calligrapher-nihad-dukhan/
SUMMARY:Detroit Institute of Arts Presents: Artist Talk by Master Calligrap
 her Nihad Dukhan
DESCRIPTION:\n\n\nExplore the rich visual language and cultural meaning of 
 one of the world’s most enduring art forms through the work and insight 
 of master calligrapher Nihad Dukhan.\n\nIn this artist talk\, Dukhan will 
 explore Arabic calligraphy as both an aesthetic practice and a civilizatio
 nal emblem\, tracing its historical roots\, spiritual dimensions\, and con
 temporary relevance. Through images\, personal reflections\, and selected 
 works\, audiences will gain a deeper appreciation of calligraphy as a livi
 ng tradition that continues to shape cultural identity across generations.
 \n\nWhile at the museum\, be sure to check out Sacred Lines\, Luminous Pa
 ges: Exploring Arabic Calligraphy and Illumination with illuminator Behna
 z Karjoo and calligrapher Khalid Casado\, who will demonstrate their pract
 ices in the Great Hall from 1 to 3 p.m.\n\nBoth programs are presented in 
 collaboration with Reed Society for the Sacred Arts.\n\n\n\n\nAbout the Ar
 tist\n\n\n\n\nNihad Dukhan\nA Michigan-based Palestinian American artist a
 nd professor of mechanical engineering at the University of Detroit Mercy\
 , Dukhan bridges analytical precision with artistic mastery in his approac
 h to calligraphy.\n\nTrained in the classical tradition in Istanbul\, Dukh
 an holds multiple ijazahs from some of the most revered calligraphers of o
 ur time\, including Hasan Çelebi\, Mohamed Zakariya\, and Abdul Razak Kar
 akash. His training spans styles such as Thuluth\, Naskh\, Taliq\, Deewani
 \, and Deewani Jali. Alongside this rigorous classical foundation\, he has
  developed a distinctive modern calligraphic style since 1989\, expanding 
 the expressive possibilities of the art form.\n\n\n\n\n
ATTACH;FMTTYPE=image/jpeg:https://www.arabamerica.com/wp-content/uploads/2
 026/02/unnamed-4.jpg
LOCATION:Detroit Institute of Arts\, 5200 Woodward Ave\, Detroit\, MI\, Uni
 ted States
GEO:42.3595031;-83.06431900000001
X-APPLE-STRUCTURED-LOCATION;VALUE=URI;X-ADDRESS=5200 Woodward Ave\, Detroit
 \, MI\, United States;X-APPLE-RADIUS=100;X-TITLE=Detroit Institute of Arts
 :geo:42.3595031,-83.06431900000001
END:VEVENT
BEGIN:VTIMEZONE
TZID:America/Detroit
X-LIC-LOCATION:America/Detroit
BEGIN:DAYLIGHT
DTSTART:20260308T030000
TZOFFSETFROM:-0500
TZOFFSETTO:-0400
TZNAME:EDT
END:DAYLIGHT
END:VTIMEZONE
END:VCALENDAR