BEGIN:VCALENDAR
VERSION:2.0
PRODID:-//wp-events-plugin.com//7.2.3.1//EN
TZID:America/Detroit
X-WR-TIMEZONE:America/Detroit
BEGIN:VEVENT
UID:34505@arabamerica.com
DTSTART;TZID=America/Detroit:20250607T120000
DTEND;TZID=America/Detroit:20250607T200000
DTSTAMP:20250602T204913Z
URL:https://www.arabamerica.com/events/dic-eid-al-adha-bazaar-june-7th/
SUMMARY:DIC Eid al-Adha Bazaar: June 7th
DESCRIPTION:\n\n\nCHICAGO\, IL\n\n\n\n&nbsp\;\n\nThere is paid parking at t
 he venue.\n\n\nJoin us for a bazaar after Eid Al-Adha prayer! Registration
  is free.\n\n\n\n\n\n\n\n\n\n\n\n\n\n\nWe will be featuring a floor of hal
 al food vendors\, ice cream\, coffee and more. Doors open after Eid prayer
 .\n\n\n\n\n\n\n\n\n\n\n\n
ATTACH;FMTTYPE=image/jpeg:https://www.arabamerica.com/wp-content/uploads/2
 025/06/dic_eid-bazaar.png
LOCATION:Downtown Islamic Center\, 231 South State Street\, Chicago\, IL\, 
 60604\, United States
GEO:41.878692;-87.62734929999999
X-APPLE-STRUCTURED-LOCATION;VALUE=URI;X-ADDRESS=231 South State Street\, Ch
 icago\, IL\, 60604\, United States;X-APPLE-RADIUS=100;X-TITLE=Downtown Isl
 amic Center:geo:41.878692,-87.62734929999999
END:VEVENT
BEGIN:VTIMEZONE
TZID:America/Detroit
X-LIC-LOCATION:America/Detroit
BEGIN:DAYLIGHT
DTSTART:20250309T030000
TZOFFSETFROM:-0500
TZOFFSETTO:-0400
TZNAME:EDT
END:DAYLIGHT
END:VTIMEZONE
END:VCALENDAR