BEGIN:VCALENDAR
VERSION:2.0
PRODID:-//wp-events-plugin.com//7.2.3.1//EN
TZID:America/Detroit
X-WR-TIMEZONE:America/Detroit
BEGIN:VEVENT
UID:35035@arabamerica.com
DTSTART;TZID=America/New_York:20251116T170000
DTEND;TZID=America/New_York:20251116T190000
DTSTAMP:20250827T014915Z
URL:https://www.arabamerica.com/events/dine-donate-taste-the-world-on-wash
 tenaw-ave-moroccan-casablanca/
SUMMARY:"Dine & Donate" Taste The World on Washtenaw Ave. Moroccan Casablan
 ca
DESCRIPTION:Ypsilanti\, MI\n\nJoin us at Moroccan Casablanca for a deliciou
 s meal that gives back - your taste buds and the community will thank you!
 \n\nWelcome to Dine &amp\; Donate at China Palace Restaurant! Join us at 2
 333 Washtenaw Ave on November16\, 2025\, at 5:00 PM for a night of delicio
 us food for a cause. Indulge in authentic Soul Food cuisine while supporti
 ng Embracing Our Differences Michigan. Let's eat\, chat\, and make a diffe
 rence together. See you there!\n\nFor reservations\, visit eodmichigan.org
 \n\n&nbsp\;
ATTACH;FMTTYPE=image/jpeg:https://www.arabamerica.com/wp-content/uploads/2
 025/08/Screenshot-2025-08-26-at-9.48.40-PM.png
LOCATION:2333 Washtenaw Ave\, 2333 Washtenaw Ave\, Ypsilanti\, MI\, 48197\,
  United States
GEO:42.24866;-83.649421
X-APPLE-STRUCTURED-LOCATION;VALUE=URI;X-ADDRESS=2333 Washtenaw Ave\, Ypsila
 nti\, MI\, 48197\, United States;X-APPLE-RADIUS=100;X-TITLE=2333 Washtenaw
  Ave:geo:42.24866,-83.649421
END:VEVENT
BEGIN:VTIMEZONE
TZID:America/New_York
X-LIC-LOCATION:America/New_York
BEGIN:STANDARD
DTSTART:20251102T010000
TZOFFSETFROM:-0400
TZOFFSETTO:-0500
TZNAME:EST
END:STANDARD
END:VTIMEZONE
END:VCALENDAR