BEGIN:VCALENDAR
VERSION:2.0
PRODID:-//wp-events-plugin.com//7.2.3.1//EN
TZID:America/Detroit
X-WR-TIMEZONE:America/Detroit
BEGIN:VEVENT
UID:32935@arabamerica.com
DTSTART;TZID=America/Detroit:20240612T130000
DTEND;TZID=America/Detroit:20240612T130000
DTSTAMP:20240602T145222Z
URL:https://www.arabamerica.com/events/dis-orienting-media-the-creative-vi
 sion-of-arab-american-cultural-production/
SUMMARY:Dis-orienting Media: The Creative Vision of Arab American Cultural 
 Production
DESCRIPTION:VIRTUAL\n\nIn the years since 9/11\, the Middle East has been a
 n outsize presence in American society\, a source of geopolitical tensions
  but also cultural fascination. Yet despite this influence and interest\, 
 Arab American media production and media cultures remain vastly understudi
 ed.\n\nOn June 12th\, join Film Quarterly for a webinar exploring the cult
 ural histories\, formal innovations\, and political interventions of Arab 
 media in the US. FQ columnist and contributing editor Ramzi Fawaz (Univers
 ity of Wisconsin) moderates a discussion with writer\, scholar\, and journ
 alist Maytha Alhassen (co-executive producer\, Ramy)\, scholar and perform
 er Thomas S. Dolan (ACLS Fellow\, Emory University)\, and scholar\, media 
 maker\, and archivist William Youmans (George Washington University). Intr
 oduced by FQ editor-in-chief Rebecca Prime.
ATTACH;FMTTYPE=image/jpeg:https://www.arabamerica.com/wp-content/uploads/2
 024/06/temp.jpg
END:VEVENT
BEGIN:VTIMEZONE
TZID:America/Detroit
X-LIC-LOCATION:America/Detroit
BEGIN:DAYLIGHT
DTSTART:20240310T030000
TZOFFSETFROM:-0500
TZOFFSETTO:-0400
TZNAME:EDT
END:DAYLIGHT
END:VTIMEZONE
END:VCALENDAR