BEGIN:VCALENDAR
VERSION:2.0
PRODID:-//wp-events-plugin.com//7.2.3.1//EN
TZID:America/Detroit
X-WR-TIMEZONE:America/Detroit
BEGIN:VEVENT
UID:32377@arabamerica.com
DTSTART;TZID=America/Detroit:20240309T173000
DTEND;TZID=America/Detroit:20240309T193000
DTSTAMP:20240304T175904Z
URL:https://www.arabamerica.com/events/diy-herbal-tea-blend-workshop-ear-s
 eeds-fundraiser-for-heal-palestine/
SUMMARY:DIY Herbal Tea Blend Workshop + Ear Seeds Fundraiser for Heal Pales
 tine
DESCRIPTION:NY.\n\nJoin us for a evening of wellness benefiting Heal Palest
 ine. A non-profit that provides urgent aid\, healthcare and support for th
 e children of Palestine to heal.\n\nWhat to expect:\nDIY Herbal tea blend 
 workshop with Dr. Baraah Attal\, DACM. You will be making diffent blends t
 hat will help with digestion \, anxiety and immune boosting.\n\nEar-seeds 
 by Dr. Baraah which are crystal beads that press on acupressure points to 
 help with anxiety\, insomnia and so much more.\n\nDelicous mocktails by @m
 ock.with.me (non-alcoholic beverages)\n\nSmall bites will be served.\n\n10
 0% of proceeds will go to Heal Palestine.
ATTACH;FMTTYPE=image/jpeg:https://www.arabamerica.com/wp-content/uploads/2
 024/03/https___cdn.evbuc_.com_images_706564499_198519226764_1_original-1.j
 peg
LOCATION:Grand Street Healing Project\, 105 Grand Street \, Brooklyn \, NY 
 \, United States
GEO:40.715509;-73.963329
X-APPLE-STRUCTURED-LOCATION;VALUE=URI;X-ADDRESS=105 Grand Street \, Brookly
 n \, NY \, United States;X-APPLE-RADIUS=100;X-TITLE=Grand Street Healing P
 roject:geo:40.715509,-73.963329
END:VEVENT
BEGIN:VTIMEZONE
TZID:America/Detroit
X-LIC-LOCATION:America/Detroit
BEGIN:STANDARD
DTSTART:20231105T010000
TZOFFSETFROM:-0400
TZOFFSETTO:-0500
TZNAME:EST
END:STANDARD
END:VTIMEZONE
END:VCALENDAR